Workbook

Sheet Dashboard

Sheet Support
A1: Month | B1: Zone | D1: 3 | E1: =INDEX(A2:A13,D1) -> Mar | G1: SL | H1: =VLOOKUP(E3,Data!A:F,4,0) -> 0.41 | I1: =1-H1 -> 0.59 | N1: TRUE | O1: TRUE | P1: TRUE
A2: Jan | B2: EAST | D2: 1 | E2: =INDEX(B2:B5,D2) -> EAST | G2: Quality | H2: =VLOOKUP(E3,Data!A:F,5,0) -> 0.45 | I2: =1-H2 -> 0.55 | M2: Month | N2: SL | O2: Quality | P2: Productivity
A3: Feb | B3: WEST | D3: ID | E3: =E1&E2 -> MarEAST | G3: Productivity | H3: =VLOOKUP(E3,Data!A:F,6,0) -> 0.42 | I3: =1-H3 -> 0.58 | L3: =M3&$E$2 -> JanEAST | M3: Jan | N3: =IF($N$1,VLOOKUP($L3,Data!A:F,4,0),NA()) -> 0.7 | O3: =IF($O$1,VLOOKUP($L3,Data!A:F,5,0),NA()) -> 0.59 | P3: =IF($P$1,VLOOKUP($L3,Data!A:F,6,0),NA()) -> 0.41
A4: Mar | B4: NORTH | L4: =M4&$E$2 -> FebEAST | M4: Feb | N4: =IF($N$1,VLOOKUP($L4,Data!A:F,4,0),NA()) -> 0.69 | O4: =IF($O$1,VLOOKUP($L4,Data!A:F,5,0),NA()) -> 0.49 | P4: =IF($P$1,VLOOKUP($L4,Data!A:F,6,0),NA()) -> 0.33
A5: Apr | B5: SOUTH | L5: =M5&$E$2 -> MarEAST | M5: Mar | N5: =IF($N$1,VLOOKUP($L5,Data!A:F,4,0),NA()) -> 0.41 | O5: =IF($O$1,VLOOKUP($L5,Data!A:F,5,0),NA()) -> 0.45 | P5: =IF($P$1,VLOOKUP($L5,Data!A:F,6,0),NA()) -> 0.42
A6: May | L6: =M6&$E$2 -> AprEAST | M6: Apr | N6: =IF($N$1,VLOOKUP($L6,Data!A:F,4,0),NA()) -> 0.43 | O6: =IF($O$1,VLOOKUP($L6,Data!A:F,5,0),NA()) -> 0.67 | P6: =IF($P$1,VLOOKUP($L6,Data!A:F,6,0),NA()) -> 0.43
A7: Jun | L7: =M7&$E$2 -> MayEAST | M7: May | N7: =IF($N$1,VLOOKUP($L7,Data!A:F,4,0),NA()) -> 0.36 | O7: =IF($O$1,VLOOKUP($L7,Data!A:F,5,0),NA()) -> 0.66 | P7: =IF($P$1,VLOOKUP($L7,Data!A:F,6,0),NA()) -> 0.6
A8: Jul | L8: =M8&$E$2 -> JunEAST | M8: Jun | N8: =IF($N$1,VLOOKUP($L8,Data!A:F,4,0),NA()) -> 0.3 | O8: =IF($O$1,VLOOKUP($L8,Data!A:F,5,0),NA()) -> 0.7 | P8: =IF($P$1,VLOOKUP($L8,Data!A:F,6,0),NA()) -> 0.49
A9: Aug | L9: =M9&$E$2 -> JulEAST | M9: Jul | N9: =IF($N$1,VLOOKUP($L9,Data!A:F,4,0),NA()) -> 0.69 | O9: =IF($O$1,VLOOKUP($L9,Data!A:F,5,0),NA()) -> 0.33 | P9: =IF($P$1,VLOOKUP($L9,Data!A:F,6,0),NA()) -> 0.67
A10: Sep | L10: =M10&$E$2 -> AugEAST | M10: Aug | N10: =IF($N$1,VLOOKUP($L10,Data!A:F,4,0),NA()) -> 0.79 | O10: =IF($O$1,VLOOKUP($L10,Data!A:F,5,0),NA()) -> 0.39 | P10: =IF($P$1,VLOOKUP($L10,Data!A:F,6,0),NA()) -> 0.79
A11: Oct | L11: =M11&$E$2 -> SepEAST | M11: Sep | N11: =IF($N$1,VLOOKUP($L11,Data!A:F,4,0),NA()) -> 0.3 | O11: =IF($O$1,VLOOKUP($L11,Data!A:F,5,0),NA()) -> 0.36 | P11: =IF($P$1,VLOOKUP($L11,Data!A:F,6,0),NA()) -> 0.3
A12: Nov | L12: =M12&$E$2 -> OctEAST | M12: Oct | N12: =IF($N$1,VLOOKUP($L12,Data!A:F,4,0),NA()) -> 0.39 | O12: =IF($O$1,VLOOKUP($L12,Data!A:F,5,0),NA()) -> 0.38 | P12: =IF($P$1,VLOOKUP($L12,Data!A:F,6,0),NA()) -> 0.77
A13: Dec | L13: =M13&$E$2 -> NovEAST | M13: Nov | N13: =IF($N$1,VLOOKUP($L13,Data!A:F,4,0),NA()) -> 0.68 | O13: =IF($O$1,VLOOKUP($L13,Data!A:F,5,0),NA()) -> 0.38 | P13: =IF($P$1,VLOOKUP($L13,Data!A:F,6,0),NA()) -> 0.69
L14: =M14&$E$2 -> DecEAST | M14: Dec | N14: =IF($N$1,VLOOKUP($L14,Data!A:F,4,0),NA()) -> 0.56 | O14: =IF($O$1,VLOOKUP($L14,Data!A:F,5,0),NA()) -> 0.73 | P14: =IF($P$1,VLOOKUP($L14,Data!A:F,6,0),NA()) -> 0.78

Sheet Data
A1: ID | B1: Month | C1: Zone | D1: SL | E1: Quality | F1: Productivity
A2: =B2&C2 -> JanEAST | B2: Jan | C2: EAST | D2: 0.7 | E2: 0.59 | F2: 0.41
A3: =B3&C3 -> JanWEST | B3: Jan | C3: WEST | D3: 0.43 | E3: 0.58 | F3: 0.78
A4: =B4&C4 -> JanNORTH | B4: Jan | C4: NORTH | D4: 0.62 | E4: 0.65 | F4: 0.54
A5: =B5&C5 -> JanSOUTH | B5: Jan | C5: SOUTH | D5: 0.79 | E5: 0.49 | F5: 0.62
A6: =B6&C6 -> FebEAST | B6: Feb | C6: EAST | D6: 0.69 | E6: 0.49 | F6: 0.33
A7: =B7&C7 -> FebWEST | B7: Feb | C7: WEST | D7: 0.37 | E7: 0.54 | F7: 0.47
A8: =B8&C8 -> FebNORTH | B8: Feb | C8: NORTH | D8: 0.7 | E8: 0.31 | F8: 0.59
A9: =B9&C9 -> FebSOUTH | B9: Feb | C9: SOUTH | D9: 0.68 | E9: 0.3 | F9: 0.41
A10: =B10&C10 -> MarEAST | B10: Mar | C10: EAST | D10: 0.41 | E10: 0.45 | F10: 0.42
A11: =B11&C11 -> MarWEST | B11: Mar | C11: WEST | D11: 0.39 | E11: 0.38 | F11: 0.77
A12: =B12&C12 -> MarNORTH | B12: Mar | C12: NORTH | D12: 0.77 | E12: 0.4 | F12: 0.5
A13: =B13&C13 -> MarSOUTH | B13: Mar | C13: SOUTH | D13: 0.64 | E13: 0.34 | F13: 0.77
... A49: =B49&C49 -> DecSOUTH | B49: Dec | C49: SOUTH | D49: 0.45 | E49: 0.37 | F49: 0.39
