Workbook
Name Calendar_Start_Month: DATE(Input_Year,Input_Start_With_Month,1)
Name Calendar_Week_Days: INDEX(Day_List,MATCH(Input_Start_Of_Week,Day_List,0)+COLUMN(Calendar!XFD1048571)-1)
Name Calendar_Year: IF(Input_Start_With_Month>1,Input_Year&"-"&RIGHT(Input_Year+1,2),Input_Year)
Name Day_List: Setting!$L$1:$L$15
Name Highlight_Day_Of_Week1: Setting!$C$9
Name Highlight_Day_Of_Week2: Setting!$C$10
Name Highlight_Holiday: Setting!$C$11
Name Hyperlink_Address: "[Dynamic Annual Calendar with Holiday.xlsx]"&ADDRESS(MATCH(Calendar!A1,Holiday_List!$A:$A,0),1,4,1,"Holiday_List")
Name Input_Start_Of_Week: Setting!$C$5
Name Input_Start_With_Month: MONTH(DATEVALUE("1-"&Setting!$C$4&"-"&Input_Year))
Name Input_Year: Setting!$C$3
Name IsHoliday: NOT(ISERROR(VLOOKUP(Calendar!A1,Holiday_List!$A:$A,1,0)))
Name Theme_Day_Of_Week_1: Setting!$C$16
Name Theme_Day_Of_Week_2: Setting!$C$17
Name Theme_Holiday: Setting!$C$18
Name Whole_Theme: Setting!$C$15

Sheet Calendar
A1: {=Calendar_Year} -> 2023-24
B6: {=DATE(Input_Year,Input_Start_With_Month,1)} -> 45017 | J6: {=DATE(Input_Year,Input_Start_With_Month+1,1)} -> 45047 | R6: {=DATE(Input_Year,Input_Start_With_Month+2,1)} -> 45078
B7: {=INDEX(Day_List,MATCH(Input_Start_Of_Week,Day_List,0)+COLUMN(Calendar!A1)-1)} -> Sun | C7: {=INDEX(Day_List,MATCH(Input_Start_Of_Week,Day_List,0)+COLUMN(Calendar!B1)-1)} -> Mon | D7: {=INDEX(Day_List,MATCH(Input_Start_Of_Week,Day_List,0)+COLUMN(Calendar!C1)-1)} -> Tue | E7: {=INDEX(Day_List,MATCH(Input_Start_Of_Week,Day_List,0)+COLUMN(Calendar!D1)-1)} -> Wed | F7: {=INDEX(Day_List,MATCH(Input_Start_Of_Week,Day_List,0)+COLUMN(Calendar!E1)-1)} -> Thu | G7: {=INDEX(Day_List,MATCH(Input_Start_Of_Week,Day_List,0)+COLUMN(Calendar!F1)-1)} -> Fri | H7: {=INDEX(Day_List,MATCH(Input_Start_Of_Week,Day_List,0)+COLUMN(Calendar!G1)-1)} -> Sat | J7: {=INDEX(Day_List,MATCH(Input_Start_Of_Week,Day_List,0)+COLUMN(Calendar!A1)-1)} -> Sun | K7: {=INDEX(Day_List,MATCH(Input_Start_Of_Week,Day_List,0)+COLUMN(Calendar!B1)-1)} -> Mon | L7: {=INDEX(Day_List,MATCH(Input_Start_Of_Week,Day_List,0)+COLUMN(Calendar!C1)-1)} -> Tue | M7: {=INDEX(Day_List,MATCH(Input_Start_Of_Week,Day_List,0)+COLUMN(Calendar!D1)-1)} -> Wed | N7: {=INDEX(Day_List,MATCH(Input_Start_Of_Week,Day_List,0)+COLUMN(Calendar!E1)-1)} -> Thu | O7: {=INDEX(Day_List,MATCH(Input_Start_Of_Week,Day_List,0)+COLUMN(Calendar!F1)-1)} -> Fri | P7: {=INDEX(Day_List,MATCH(Input_Start_Of_Week,Day_List,0)+COLUMN(Calendar!G1)-1)} -> Sat | R7: {=INDEX(Day_List,MATCH(Input_Start_Of_Week,Day_List,0)+COLUMN(Calendar!A1)-1)} -> Sun | S7: {=INDEX(Day_List,MATCH(Input_Start_Of_Week,Day_List,0)+COLUMN(Calendar!B1)-1)} -> Mon | T7: {=INDEX(Day_List,MATCH(Input_Start_Of_Week,Day_List,0)+COLUMN(Calendar!C1)-1)} -> Tue | U7: {=INDEX(Day_List,MATCH(Input_Start_Of_Week,Day_List,0)+COLUMN(Calendar!D1)-1)} -> Wed | V7: {=INDEX(Day_List,MATCH(Input_Start_Of_Week,Day_List,0)+COLUMN(Calendar!E1)-1)} -> Thu | W7: {=INDEX(Day_List,MATCH(Input_Start_Of_Week,Day_List,0)+COLUMN(Calendar!F1)-1)} -> Fri | X7: {=INDEX(Day_List,MATCH(Input_Start_Of_Week,Day_List,0)+COLUMN(Calendar!G1)-1)} -> Sat
B8: =IF(A8="",IF(TEXT($B$6,"DDD")=B7,$B$6,""),A8+1) | C8: =IF(B8="",IF(TEXT($B$6,"DDD")=C7,$B$6,""),B8+1) | D8: =IF(C8="",IF(TEXT($B$6,"DDD")=D7,$B$6,""),C8+1) | E8: =IF(D8="",IF(TEXT($B$6,"DDD")=E7,$B$6,""),D8+1) | F8: =IF(E8="",IF(TEXT($B$6,"DDD")=F7,$B$6,""),E8+1) | G8: =IF(F8="",IF(TEXT($B$6,"DDD")=G7,$B$6,""),F8+1) | H8: =IF(G8="",IF(TEXT($B$6,"DDD")=H7,$B$6,""),G8+1) -> 45017 | J8: =IF(I8="",IF(TEXT($J$6,"DDD")=J7,$J$6,""),I8+1) | K8: =IF(J8="",IF(TEXT($J$6,"DDD")=K7,$J$6,""),J8+1) -> 45047 | L8: =IF(K8="",IF(TEXT($J$6,"DDD")=L7,$J$6,""),K8+1) -> 45048 | M8: =IF(L8="",IF(TEXT($J$6,"DDD")=M7,$J$6,""),L8+1) -> 45049 | N8: =IF(M8="",IF(TEXT($J$6,"DDD")=N7,$J$6,""),M8+1) -> 45050 | O8: =IF(N8="",IF(TEXT($J$6,"DDD")=O7,$J$6,""),N8+1) -> 45051 | P8: =IF(O8="",IF(TEXT($J$6,"DDD")=P7,$J$6,""),O8+1) -> 45052 | R8: =IF(TEXT($R$6,"DDD")=R7,$R$6,"") | S8: =IF(R8="",IF(TEXT($R$6,"DDD")=S7,$R$6,""),R8+1) | T8: =IF(S8="",IF(TEXT($R$6,"DDD")=T7,$R$6,""),S8+1) | U8: =IF(T8="",IF(TEXT($R$6,"DDD")=U7,$R$6,""),T8+1) | V8: =IF(U8="",IF(TEXT($R$6,"DDD")=V7,$R$6,""),U8+1) -> 45078 | W8: =IF(V8="",IF(TEXT($R$6,"DDD")=W7,$R$6,""),V8+1) -> 45079 | X8: =IF(W8="",IF(TEXT($R$6,"DDD")=X7,$R$6,""),W8+1) -> 45080
B9: =IF(H8="","",IF(EOMONTH($B$6,0)>=H8+1,H8+1,"")) -> 45018 | C9: =IF(B9="","",IF(EOMONTH($B$6,0)>=B9+1,B9+1,"")) -> 45019 | D9: =IF(C9="","",IF(EOMONTH($B$6,0)>=C9+1,C9+1,"")) -> 45020 | E9: =IF(D9="","",IF(EOMONTH($B$6,0)>=D9+1,D9+1,"")) -> 45021 | F9: =IF(E9="","",IF(EOMONTH($B$6,0)>=E9+1,E9+1,"")) -> 45022 | G9: =IF(F9="","",IF(EOMONTH($B$6,0)>=F9+1,F9+1,"")) -> 45023 | H9: =IF(G9="","",IF(EOMONTH($B$6,0)>=G9+1,G9+1,"")) -> 45024 | J9: =IF(P8="","",IF(EOMONTH($J$6,0)>=P8+1,P8+1,"")) -> 45053 | K9: =IF(J9="","",IF(EOMONTH($J$6,0)>=J9+1,J9+1,"")) -> 45054 | L9: =IF(K9="","",IF(EOMONTH($J$6,0)>=K9+1,K9+1,"")) -> 45055 | M9: =IF(L9="","",IF(EOMONTH($J$6,0)>=L9+1,L9+1,"")) -> 45056 | N9: =IF(M9="","",IF(EOMONTH($J$6,0)>=M9+1,M9+1,"")) -> 45057 | O9: =IF(N9="","",IF(EOMONTH($J$6,0)>=N9+1,N9+1,"")) -> 45058 | P9: =IF(O9="","",IF(EOMONTH($J$6,0)>=O9+1,O9+1,"")) -> 45059 | R9: =IF(X8="","",IF(EOMONTH($R$6,0)>=X8+1,X8+1,"")) -> 45081 | S9: =IF(R9="","",IF(EOMONTH($R$6,0)>=R9+1,R9+1,"")) -> 45082 | T9: =IF(S9="","",IF(EOMONTH($R$6,0)>=S9+1,S9+1,"")) -> 45083 | U9: =IF(T9="","",IF(EOMONTH($R$6,0)>=T9+1,T9+1,"")) -> 45084 | V9: =IF(U9="","",IF(EOMONTH($R$6,0)>=U9+1,U9+1,"")) -> 45085 | W9: =IF(V9="","",IF(EOMONTH($R$6,0)>=V9+1,V9+1,"")) -> 45086 | X9: =IF(W9="","",IF(EOMONTH($R$6,0)>=W9+1,W9+1,"")) -> 45087
B10: =IF(H9="","",IF(EOMONTH($B$6,0)>=H9+1,H9+1,"")) -> 45025 | C10: =IF(B10="","",IF(EOMONTH($B$6,0)>=B10+1,B10+1,"")) -> 45026 | D10: =IF(C10="","",IF(EOMONTH($B$6,0)>=C10+1,C10+1,"")) -> 45027 | E10: =IF(D10="","",IF(EOMONTH($B$6,0)>=D10+1,D10+1,"")) -> 45028 | F10: =IF(E10="","",IF(EOMONTH($B$6,0)>=E10+1,E10+1,"")) -> 45029 | G10: =IF(F10="","",IF(EOMONTH($B$6,0)>=F10+1,F10+1,"")) -> 45030 | H10: =IF(G10="","",IF(EOMONTH($B$6,0)>=G10+1,G10+1,"")) -> 45031 | J10: =IF(P9="","",IF(EOMONTH($J$6,0)>=P9+1,P9+1,"")) -> 45060 | K10: =IF(J10="","",IF(EOMONTH($J$6,0)>=J10+1,J10+1,"")) -> 45061 | L10: =IF(K10="","",IF(EOMONTH($J$6,0)>=K10+1,K10+1,"")) -> 45062 | M10: =IF(L10="","",IF(EOMONTH($J$6,0)>=L10+1,L10+1,"")) -> 45063 | N10: =IF(M10="","",IF(EOMONTH($J$6,0)>=M10+1,M10+1,"")) -> 45064 | O10: =IF(N10="","",IF(EOMONTH($J$6,0)>=N10+1,N10+1,"")) -> 45065 | P10: =IF(O10="","",IF(EOMONTH($J$6,0)>=O10+1,O10+1,"")) -> 45066 | R10: =IF(X9="","",IF(EOMONTH($R$6,0)>=X9+1,X9+1,"")) -> 45088 | S10: =IF(R10="","",IF(EOMONTH($R$6,0)>=R10+1,R10+1,"")) -> 45089 | T10: =IF(S10="","",IF(EOMONTH($R$6,0)>=S10+1,S10+1,"")) -> 45090 | U10: =IF(T10="","",IF(EOMONTH($R$6,0)>=T10+1,T10+1,"")) -> 45091 | V10: =IF(U10="","",IF(EOMONTH($R$6,0)>=U10+1,U10+1,"")) -> 45092 | W10: =IF(V10="","",IF(EOMONTH($R$6,0)>=V10+1,V10+1,"")) -> 45093 | X10: =IF(W10="","",IF(EOMONTH($R$6,0)>=W10+1,W10+1,"")) -> 45094 | AB10: =IF(EOMONTH($B$6,0)<H8+1,H8+1,"")
B11: =IF(H10="","",IF(EOMONTH($B$6,0)>=H10+1,H10+1,"")) -> 45032 | C11: =IF(B11="","",IF(EOMONTH($B$6,0)>=B11+1,B11+1,"")) -> 45033 | D11: =IF(C11="","",IF(EOMONTH($B$6,0)>=C11+1,C11+1,"")) -> 45034 | E11: =IF(D11="","",IF(EOMONTH($B$6,0)>=D11+1,D11+1,"")) -> 45035 | F11: =IF(E11="","",IF(EOMONTH($B$6,0)>=E11+1,E11+1,"")) -> 45036 | G11: =IF(F11="","",IF(EOMONTH($B$6,0)>=F11+1,F11+1,"")) -> 45037 | H11: =IF(G11="","",IF(EOMONTH($B$6,0)>=G11+1,G11+1,"")) -> 45038 | J11: =IF(P10="","",IF(EOMONTH($J$6,0)>=P10+1,P10+1,"")) -> 45067 | K11: =IF(J11="","",IF(EOMONTH($J$6,0)>=J11+1,J11+1,"")) -> 45068 | L11: =IF(K11="","",IF(EOMONTH($J$6,0)>=K11+1,K11+1,"")) -> 45069 | M11: =IF(L11="","",IF(EOMONTH($J$6,0)>=L11+1,L11+1,"")) -> 45070 | N11: =IF(M11="","",IF(EOMONTH($J$6,0)>=M11+1,M11+1,"")) -> 45071 | O11: =IF(N11="","",IF(EOMONTH($J$6,0)>=N11+1,N11+1,"")) -> 45072 | P11: =IF(O11="","",IF(EOMONTH($J$6,0)>=O11+1,O11+1,"")) -> 45073 | R11: =IF(X10="","",IF(EOMONTH($R$6,0)>=X10+1,X10+1,"")) -> 45095 | S11: =IF(R11="","",IF(EOMONTH($R$6,0)>=R11+1,R11+1,"")) -> 45096 | T11: =IF(S11="","",IF(EOMONTH($R$6,0)>=S11+1,S11+1,"")) -> 45097 | U11: =IF(T11="","",IF(EOMONTH($R$6,0)>=T11+1,T11+1,"")) -> 45098 | V11: =IF(U11="","",IF(EOMONTH($R$6,0)>=U11+1,U11+1,"")) -> 45099 | W11: =IF(V11="","",IF(EOMONTH($R$6,0)>=V11+1,V11+1,"")) -> 45100 | X11: =IF(W11="","",IF(EOMONTH($R$6,0)>=W11+1,W11+1,"")) -> 45101
B12: =IF(H11="","",IF(EOMONTH($B$6,0)>=H11+1,H11+1,"")) -> 45039 | C12: =IF(B12="","",IF(EOMONTH($B$6,0)>=B12+1,B12+1,"")) -> 45040 | D12: =IF(C12="","",IF(EOMONTH($B$6,0)>=C12+1,C12+1,"")) -> 45041 | E12: =IF(D12="","",IF(EOMONTH($B$6,0)>=D12+1,D12+1,"")) -> 45042 | F12: =IF(E12="","",IF(EOMONTH($B$6,0)>=E12+1,E12+1,"")) -> 45043 | G12: =IF(F12="","",IF(EOMONTH($B$6,0)>=F12+1,F12+1,"")) -> 45044 | H12: =IF(G12="","",IF(EOMONTH($B$6,0)>=G12+1,G12+1,"")) -> 45045 | J12: =IF(P11="","",IF(EOMONTH($J$6,0)>=P11+1,P11+1,"")) -> 45074 | K12: =IF(J12="","",IF(EOMONTH($J$6,0)>=J12+1,J12+1,"")) -> 45075 | L12: =IF(K12="","",IF(EOMONTH($J$6,0)>=K12+1,K12+1,"")) -> 45076 | M12: =IF(L12="","",IF(EOMONTH($J$6,0)>=L12+1,L12+1,"")) -> 45077 | N12: =IF(M12="","",IF(EOMONTH($J$6,0)>=M12+1,M12+1,"")) | O12: =IF(N12="","",IF(EOMONTH($J$6,0)>=N12+1,N12+1,"")) | P12: =IF(O12="","",IF(EOMONTH($J$6,0)>=O12+1,O12+1,"")) | R12: =IF(X11="","",IF(EOMONTH($R$6,0)>=X11+1,X11+1,"")) -> 45102 | S12: =IF(R12="","",IF(EOMONTH($R$6,0)>=R12+1,R12+1,"")) -> 45103 | T12: =IF(S12="","",IF(EOMONTH($R$6,0)>=S12+1,S12+1,"")) -> 45104 | U12: =IF(T12="","",IF(EOMONTH($R$6,0)>=T12+1,T12+1,"")) -> 45105 | V12: =IF(U12="","",IF(EOMONTH($R$6,0)>=U12+1,U12+1,"")) -> 45106 | W12: =IF(V12="","",IF(EOMONTH($R$6,0)>=V12+1,V12+1,"")) -> 45107 | X12: =IF(W12="","",IF(EOMONTH($R$6,0)>=W12+1,W12+1,""))
B13: =IF(H12="","",IF(EOMONTH($B$6,0)>=H12+1,H12+1,"")) -> 45046 | C13: =IF(B13="","",IF(EOMONTH($B$6,0)>=B13+1,B13+1,"")) | D13: =IF(C13="","",IF(EOMONTH($B$6,0)>=C13+1,C13+1,"")) | E13: =IF(D13="","",IF(EOMONTH($B$6,0)>=D13+1,D13+1,"")) | F13: =IF(E13="","",IF(EOMONTH($B$6,0)>=E13+1,E13+1,"")) | G13: =IF(F13="","",IF(EOMONTH($B$6,0)>=F13+1,F13+1,"")) | H13: =IF(G13="","",IF(EOMONTH($B$6,0)>=G13+1,G13+1,"")) | J13: =IF(P12="","",IF(EOMONTH($J$6,0)>=P12+1,P12+1,"")) | K13: =IF(J13="","",IF(EOMONTH($J$6,0)>=J13+1,J13+1,"")) | L13: =IF(K13="","",IF(EOMONTH($J$6,0)>=K13+1,K13+1,"")) | M13: =IF(L13="","",IF(EOMONTH($J$6,0)>=L13+1,L13+1,"")) | N13: =IF(M13="","",IF(EOMONTH($J$6,0)>=M13+1,M13+1,"")) | O13: =IF(N13="","",IF(EOMONTH($J$6,0)>=N13+1,N13+1,"")) | P13: =IF(O13="","",IF(EOMONTH($J$6,0)>=O13+1,O13+1,"")) | R13: =IF(X12="","",IF(EOMONTH($R$6,0)>=X12+1,X12+1,"")) | S13: =IF(R13="","",IF(EOMONTH($R$6,0)>=R13+1,R13+1,"")) | T13: =IF(S13="","",IF(EOMONTH($R$6,0)>=S13+1,S13+1,"")) | U13: =IF(T13="","",IF(EOMONTH($R$6,0)>=T13+1,T13+1,"")) | V13: =IF(U13="","",IF(EOMONTH($R$6,0)>=U13+1,U13+1,"")) | W13: =IF(V13="","",IF(EOMONTH($R$6,0)>=V13+1,V13+1,"")) | X13: =IF(W13="","",IF(EOMONTH($R$6,0)>=W13+1,W13+1,""))
B16: {=DATE(Input_Year,Input_Start_With_Month+3,1)} -> 45108 | J16: {=DATE(Input_Year,Input_Start_With_Month+4,1)} -> 45139 | R16: {=DATE(Input_Year,Input_Start_With_Month+5,1)} -> 45170
B17: {=INDEX(Day_List,MATCH(Input_Start_Of_Week,Day_List,0)+COLUMN(Calendar!A11)-1)} -> Sun | C17: {=INDEX(Day_List,MATCH(Input_Start_Of_Week,Day_List,0)+COLUMN(Calendar!B11)-1)} -> Mon | D17: {=INDEX(Day_List,MATCH(Input_Start_Of_Week,Day_List,0)+COLUMN(Calendar!C11)-1)} -> Tue | E17: {=INDEX(Day_List,MATCH(Input_Start_Of_Week,Day_List,0)+COLUMN(Calendar!D11)-1)} -> Wed | F17: {=INDEX(Day_List,MATCH(Input_Start_Of_Week,Day_List,0)+COLUMN(Calendar!E11)-1)} -> Thu | G17: {=INDEX(Day_List,MATCH(Input_Start_Of_Week,Day_List,0)+COLUMN(Calendar!F11)-1)} -> Fri | H17: {=INDEX(Day_List,MATCH(Input_Start_Of_Week,Day_List,0)+COLUMN(Calendar!G11)-1)} -> Sat | J17: {=INDEX(Day_List,MATCH(Input_Start_Of_Week,Day_List,0)+COLUMN(Calendar!A11)-1)} -> Sun | K17: {=INDEX(Day_List,MATCH(Input_Start_Of_Week,Day_List,0)+COLUMN(Calendar!B11)-1)} -> Mon | L17: {=INDEX(Day_List,MATCH(Input_Start_Of_Week,Day_List,0)+COLUMN(Calendar!C11)-1)} -> Tue | M17: {=INDEX(Day_List,MATCH(Input_Start_Of_Week,Day_List,0)+COLUMN(Calendar!D11)-1)} -> Wed | N17: {=INDEX(Day_List,MATCH(Input_Start_Of_Week,Day_List,0)+COLUMN(Calendar!E11)-1)} -> Thu | O17: {=INDEX(Day_List,MATCH(Input_Start_Of_Week,Day_List,0)+COLUMN(Calendar!F11)-1)} -> Fri | P17: {=INDEX(Day_List,MATCH(Input_Start_Of_Week,Day_List,0)+COLUMN(Calendar!G11)-1)} -> Sat | R17: {=INDEX(Day_List,MATCH(Input_Start_Of_Week,Day_List,0)+COLUMN(Calendar!A11)-1)} -> Sun | S17: {=INDEX(Day_List,MATCH(Input_Start_Of_Week,Day_List,0)+COLUMN(Calendar!B11)-1)} -> Mon | T17: {=INDEX(Day_List,MATCH(Input_Start_Of_Week,Day_List,0)+COLUMN(Calendar!C11)-1)} -> Tue | U17: {=INDEX(Day_List,MATCH(Input_Start_Of_Week,Day_List,0)+COLUMN(Calendar!D11)-1)} -> Wed | V17: {=INDEX(Day_List,MATCH(Input_Start_Of_Week,Day_List,0)+COLUMN(Calendar!E11)-1)} -> Thu | W17: {=INDEX(Day_List,MATCH(Input_Start_Of_Week,Day_List,0)+COLUMN(Calendar!F11)-1)} -> Fri | X17: {=INDEX(Day_List,MATCH(Input_Start_Of_Week,Day_List,0)+COLUMN(Calendar!G11)-1)} -> Sat
B18: =IF(TEXT($B$16,"DDD")=B17,$B$16,"") | C18: =IF(B18="",IF(TEXT($B$16,"DDD")=C17,$B$16,""),B18+1) | D18: =IF(C18="",IF(TEXT($B$16,"DDD")=D17,$B$16,""),C18+1) | E18: =IF(D18="",IF(TEXT($B$16,"DDD")=E17,$B$16,""),D18+1) | F18: =IF(E18="",IF(TEXT($B$16,"DDD")=F17,$B$16,""),E18+1) | G18: =IF(F18="",IF(TEXT($B$16,"DDD")=G17,$B$16,""),F18+1) | H18: =IF(G18="",IF(TEXT($B$16,"DDD")=H17,$B$16,""),G18+1) -> 45108 | J18: =IF(TEXT($J$16,"DDD")=J17,$J$16,"") | K18: =IF(J18="",IF(TEXT($J$16,"DDD")=K17,$J$16,""),J18+1) | L18: =IF(K18="",IF(TEXT($J$16,"DDD")=L17,$J$16,""),K18+1) -> 45139 | M18: =IF(L18="",IF(TEXT($J$16,"DDD")=M17,$J$16,""),L18+1) -> 45140 | N18: =IF(M18="",IF(TEXT($J$16,"DDD")=N17,$J$16,""),M18+1) -> 45141 | O18: =IF(N18="",IF(TEXT($J$16,"DDD")=O17,$J$16,""),N18+1) -> 45142 | P18: =IF(O18="",IF(TEXT($J$16,"DDD")=P17,$J$16,""),O18+1) -> 45143 | R18: =IF(TEXT($R$16,"DDD")=R17,$R$16,"") | S18: =IF(R18="",IF(TEXT($R$16,"DDD")=S17,$R$16,""),R18+1) | T18: =IF(S18="",IF(TEXT($R$16,"DDD")=T17,$R$16,""),S18+1) | U18: =IF(T18="",IF(TEXT($R$16,"DDD")=U17,$R$16,""),T18+1) | V18: =IF(U18="",IF(TEXT($R$16,"DDD")=V17,$R$16,""),U18+1) | W18: =IF(V18="",IF(TEXT($R$16,"DDD")=W17,$R$16,""),V18+1) -> 45170 | X18: =IF(W18="",IF(TEXT($R$16,"DDD")=X17,$R$16,""),W18+1) -> 45171 | AA18: Visit Our Website for more free templates:
B19: =IF(H18="","",IF(EOMONTH($B$16,0)>=H18+1,H18+1,"")) -> 45109 | C19: =IF(B19="","",IF(EOMONTH($B$16,0)>=B19+1,B19+1,"")) -> 45110 | D19: =IF(C19="","",IF(EOMONTH($B$16,0)>=C19+1,C19+1,"")) -> 45111 | E19: =IF(D19="","",IF(EOMONTH($B$16,0)>=D19+1,D19+1,"")) -> 45112 | F19: =IF(E19="","",IF(EOMONTH($B$16,0)>=E19+1,E19+1,"")) -> 45113 | G19: =IF(F19="","",IF(EOMONTH($B$16,0)>=F19+1,F19+1,"")) -> 45114 | H19: =IF(G19="","",IF(EOMONTH($B$16,0)>=G19+1,G19+1,"")) -> 45115 | J19: =IF(P18="","",IF(EOMONTH($J$16,0)>=P18+1,P18+1,"")) -> 45144 | K19: =IF(J19="","",IF(EOMONTH($J$16,0)>=J19+1,J19+1,"")) -> 45145 | L19: =IF(K19="","",IF(EOMONTH($J$16,0)>=K19+1,K19+1,"")) -> 45146 | M19: =IF(L19="","",IF(EOMONTH($J$16,0)>=L19+1,L19+1,"")) -> 45147 | N19: =IF(M19="","",IF(EOMONTH($J$16,0)>=M19+1,M19+1,"")) -> 45148 | O19: =IF(N19="","",IF(EOMONTH($J$16,0)>=N19+1,N19+1,"")) -> 45149 | P19: =IF(O19="","",IF(EOMONTH($J$16,0)>=O19+1,O19+1,"")) -> 45150 | R19: =IF(X18="","",IF(EOMONTH($R$16,0)>=X18+1,X18+1,"")) -> 45172 | S19: =IF(R19="","",IF(EOMONTH($R$16,0)>=R19+1,R19+1,"")) -> 45173 | T19: =IF(S19="","",IF(EOMONTH($R$16,0)>=S19+1,S19+1,"")) -> 45174 | U19: =IF(T19="","",IF(EOMONTH($R$16,0)>=T19+1,T19+1,"")) -> 45175 | V19: =IF(U19="","",IF(EOMONTH($R$16,0)>=U19+1,U19+1,"")) -> 45176 | W19: =IF(V19="","",IF(EOMONTH($R$16,0)>=V19+1,V19+1,"")) -> 45177 | X19: =IF(W19="","",IF(EOMONTH($R$16,0)>=W19+1,W19+1,"")) -> 45178 | AA19: https://www.pk-anexcelexpert.com/category/templates
B20: =IF(H19="","",IF(EOMONTH($B$16,0)>=H19+1,H19+1,"")) -> 45116 | C20: =IF(B20="","",IF(EOMONTH($B$16,0)>=B20+1,B20+1,"")) -> 45117 | D20: =IF(C20="","",IF(EOMONTH($B$16,0)>=C20+1,C20+1,"")) -> 45118 | E20: =IF(D20="","",IF(EOMONTH($B$16,0)>=D20+1,D20+1,"")) -> 45119 | F20: =IF(E20="","",IF(EOMONTH($B$16,0)>=E20+1,E20+1,"")) -> 45120 | G20: =IF(F20="","",IF(EOMONTH($B$16,0)>=F20+1,F20+1,"")) -> 45121 | H20: =IF(G20="","",IF(EOMONTH($B$16,0)>=G20+1,G20+1,"")) -> 45122 | J20: =IF(P19="","",IF(EOMONTH($J$16,0)>=P19+1,P19+1,"")) -> 45151 | K20: =IF(J20="","",IF(EOMONTH($J$16,0)>=J20+1,J20+1,"")) -> 45152 | L20: =IF(K20="","",IF(EOMONTH($J$16,0)>=K20+1,K20+1,"")) -> 45153 | M20: =IF(L20="","",IF(EOMONTH($J$16,0)>=L20+1,L20+1,"")) -> 45154 | N20: =IF(M20="","",IF(EOMONTH($J$16,0)>=M20+1,M20+1,"")) -> 45155 | O20: =IF(N20="","",IF(EOMONTH($J$16,0)>=N20+1,N20+1,"")) -> 45156 | P20: =IF(O20="","",IF(EOMONTH($J$16,0)>=O20+1,O20+1,"")) -> 45157 | R20: =IF(X19="","",IF(EOMONTH($R$16,0)>=X19+1,X19+1,"")) -> 45179 | S20: =IF(R20="","",IF(EOMONTH($R$16,0)>=R20+1,R20+1,"")) -> 45180 | T20: =IF(S20="","",IF(EOMONTH($R$16,0)>=S20+1,S20+1,"")) -> 45181 | U20: =IF(T20="","",IF(EOMONTH($R$16,0)>=T20+1,T20+1,"")) -> 45182 | V20: =IF(U20="","",IF(EOMONTH($R$16,0)>=U20+1,U20+1,"")) -> 45183 | W20: =IF(V20="","",IF(EOMONTH($R$16,0)>=V20+1,V20+1,"")) -> 45184 | X20: =IF(W20="","",IF(EOMONTH($R$16,0)>=W20+1,W20+1,"")) -> 45185
B21: =IF(H20="","",IF(EOMONTH($B$16,0)>=H20+1,H20+1,"")) -> 45123 | C21: =IF(B21="","",IF(EOMONTH($B$16,0)>=B21+1,B21+1,"")) -> 45124 | D21: =IF(C21="","",IF(EOMONTH($B$16,0)>=C21+1,C21+1,"")) -> 45125 | E21: =IF(D21="","",IF(EOMONTH($B$16,0)>=D21+1,D21+1,"")) -> 45126 | F21: =IF(E21="","",IF(EOMONTH($B$16,0)>=E21+1,E21+1,"")) -> 45127 | G21: =IF(F21="","",IF(EOMONTH($B$16,0)>=F21+1,F21+1,"")) -> 45128 | H21: =IF(G21="","",IF(EOMONTH($B$16,0)>=G21+1,G21+1,"")) -> 45129 | J21: =IF(P20="","",IF(EOMONTH($J$16,0)>=P20+1,P20+1,"")) -> 45158 | K21: =IF(J21="","",IF(EOMONTH($J$16,0)>=J21+1,J21+1,"")) -> 45159 | L21: =IF(K21="","",IF(EOMONTH($J$16,0)>=K21+1,K21+1,"")) -> 45160 | M21: =IF(L21="","",IF(EOMONTH($J$16,0)>=L21+1,L21+1,"")) -> 45161 | N21: =IF(M21="","",IF(EOMONTH($J$16,0)>=M21+1,M21+1,"")) -> 45162 | O21: =IF(N21="","",IF(EOMONTH($J$16,0)>=N21+1,N21+1,"")) -> 45163 | P21: =IF(O21="","",IF(EOMONTH($J$16,0)>=O21+1,O21+1,"")) -> 45164 | R21: =IF(X20="","",IF(EOMONTH($R$16,0)>=X20+1,X20+1,"")) -> 45186 | S21: =IF(R21="","",IF(EOMONTH($R$16,0)>=R21+1,R21+1,"")) -> 45187 | T21: =IF(S21="","",IF(EOMONTH($R$16,0)>=S21+1,S21+1,"")) -> 45188 | U21: =IF(T21="","",IF(EOMONTH($R$16,0)>=T21+1,T21+1,"")) -> 45189 | V21: =IF(U21="","",IF(EOMONTH($R$16,0)>=U21+1,U21+1,"")) -> 45190 | W21: =IF(V21="","",IF(EOMONTH($R$16,0)>=V21+1,V21+1,"")) -> 45191 | X21: =IF(W21="","",IF(EOMONTH($R$16,0)>=W21+1,W21+1,"")) -> 45192
B22: =IF(H21="","",IF(EOMONTH($B$16,0)>=H21+1,H21+1,"")) -> 45130 | C22: =IF(B22="","",IF(EOMONTH($B$16,0)>=B22+1,B22+1,"")) -> 45131 | D22: =IF(C22="","",IF(EOMONTH($B$16,0)>=C22+1,C22+1,"")) -> 45132 | E22: =IF(D22="","",IF(EOMONTH($B$16,0)>=D22+1,D22+1,"")) -> 45133 | F22: =IF(E22="","",IF(EOMONTH($B$16,0)>=E22+1,E22+1,"")) -> 45134 | G22: =IF(F22="","",IF(EOMONTH($B$16,0)>=F22+1,F22+1,"")) -> 45135 | H22: =IF(G22="","",IF(EOMONTH($B$16,0)>=G22+1,G22+1,"")) -> 45136 | J22: =IF(P21="","",IF(EOMONTH($J$16,0)>=P21+1,P21+1,"")) -> 45165 | K22: =IF(J22="","",IF(EOMONTH($J$16,0)>=J22+1,J22+1,"")) -> 45166 | L22: =IF(K22="","",IF(EOMONTH($J$16,0)>=K22+1,K22+1,"")) -> 45167 | M22: =IF(L22="","",IF(EOMONTH($J$16,0)>=L22+1,L22+1,"")) -> 45168 | N22: =IF(M22="","",IF(EOMONTH($J$16,0)>=M22+1,M22+1,"")) -> 45169 | O22: =IF(N22="","",IF(EOMONTH($J$16,0)>=N22+1,N22+1,"")) | P22: =IF(O22="","",IF(EOMONTH($J$16,0)>=O22+1,O22+1,"")) | R22: =IF(X21="","",IF(EOMONTH($R$16,0)>=X21+1,X21+1,"")) -> 45193 | S22: =IF(R22="","",IF(EOMONTH($R$16,0)>=R22+1,R22+1,"")) -> 45194 | T22: =IF(S22="","",IF(EOMONTH($R$16,0)>=S22+1,S22+1,"")) -> 45195 | U22: =IF(T22="","",IF(EOMONTH($R$16,0)>=T22+1,T22+1,"")) -> 45196 | V22: =IF(U22="","",IF(EOMONTH($R$16,0)>=U22+1,U22+1,"")) -> 45197 | W22: =IF(V22="","",IF(EOMONTH($R$16,0)>=V22+1,V22+1,"")) -> 45198 | X22: =IF(W22="","",IF(EOMONTH($R$16,0)>=W22+1,W22+1,"")) -> 45199
B23: =IF(H22="","",IF(EOMONTH($B$16,0)>=H22+1,H22+1,"")) -> 45137 | C23: =IF(B23="","",IF(EOMONTH($B$16,0)>=B23+1,B23+1,"")) -> 45138 | D23: =IF(C23="","",IF(EOMONTH($B$16,0)>=C23+1,C23+1,"")) | E23: =IF(D23="","",IF(EOMONTH($B$16,0)>=D23+1,D23+1,"")) | F23: =IF(E23="","",IF(EOMONTH($B$16,0)>=E23+1,E23+1,"")) | G23: =IF(F23="","",IF(EOMONTH($B$16,0)>=F23+1,F23+1,"")) | H23: =IF(G23="","",IF(EOMONTH($B$16,0)>=G23+1,G23+1,"")) | J23: =IF(P22="","",IF(EOMONTH($J$16,0)>=P22+1,P22+1,"")) | K23: =IF(J23="","",IF(EOMONTH($J$16,0)>=J23+1,J23+1,"")) | L23: =IF(K23="","",IF(EOMONTH($J$16,0)>=K23+1,K23+1,"")) | M23: =IF(L23="","",IF(EOMONTH($J$16,0)>=L23+1,L23+1,"")) | N23: =IF(M23="","",IF(EOMONTH($J$16,0)>=M23+1,M23+1,"")) | O23: =IF(N23="","",IF(EOMONTH($J$16,0)>=N23+1,N23+1,"")) | P23: =IF(O23="","",IF(EOMONTH($J$16,0)>=O23+1,O23+1,"")) | R23: =IF(X22="","",IF(EOMONTH($R$16,0)>=X22+1,X22+1,"")) | S23: =IF(R23="","",IF(EOMONTH($R$16,0)>=R23+1,R23+1,"")) | T23: =IF(S23="","",IF(EOMONTH($R$16,0)>=S23+1,S23+1,"")) | U23: =IF(T23="","",IF(EOMONTH($R$16,0)>=T23+1,T23+1,"")) | V23: =IF(U23="","",IF(EOMONTH($R$16,0)>=U23+1,U23+1,"")) | W23: =IF(V23="","",IF(EOMONTH($R$16,0)>=V23+1,V23+1,"")) | X23: =IF(W23="","",IF(EOMONTH($R$16,0)>=W23+1,W23+1,""))
B26: {=DATE(Input_Year,Input_Start_With_Month+6,1)} -> 45200 | J26: {=DATE(Input_Year,Input_Start_With_Month+7,1)} -> 45231 | R26: {=DATE(Input_Year,Input_Start_With_Month+8,1)} -> 45261
B27: {=INDEX(Day_List,MATCH(Input_Start_Of_Week,Day_List,0)+COLUMN(Calendar!A21)-1)} -> Sun | C27: {=INDEX(Day_List,MATCH(Input_Start_Of_Week,Day_List,0)+COLUMN(Calendar!B21)-1)} -> Mon | D27: {=INDEX(Day_List,MATCH(Input_Start_Of_Week,Day_List,0)+COLUMN(Calendar!C21)-1)} -> Tue | E27: {=INDEX(Day_List,MATCH(Input_Start_Of_Week,Day_List,0)+COLUMN(Calendar!D21)-1)} -> Wed | F27: {=INDEX(Day_List,MATCH(Input_Start_Of_Week,Day_List,0)+COLUMN(Calendar!E21)-1)} -> Thu | G27: {=INDEX(Day_List,MATCH(Input_Start_Of_Week,Day_List,0)+COLUMN(Calendar!F21)-1)} -> Fri | H27: {=INDEX(Day_List,MATCH(Input_Start_Of_Week,Day_List,0)+COLUMN(Calendar!G21)-1)} -> Sat | J27: {=INDEX(Day_List,MATCH(Input_Start_Of_Week,Day_List,0)+COLUMN(Calendar!A21)-1)} -> Sun | K27: {=INDEX(Day_List,MATCH(Input_Start_Of_Week,Day_List,0)+COLUMN(Calendar!B21)-1)} -> Mon | L27: {=INDEX(Day_List,MATCH(Input_Start_Of_Week,Day_List,0)+COLUMN(Calendar!C21)-1)} -> Tue | M27: {=INDEX(Day_List,MATCH(Input_Start_Of_Week,Day_List,0)+COLUMN(Calendar!D21)-1)} -> Wed | N27: {=INDEX(Day_List,MATCH(Input_Start_Of_Week,Day_List,0)+COLUMN(Calendar!E21)-1)} -> Thu | O27: {=INDEX(Day_List,MATCH(Input_Start_Of_Week,Day_List,0)+COLUMN(Calendar!F21)-1)} -> Fri | P27: {=INDEX(Day_List,MATCH(Input_Start_Of_Week,Day_List,0)+COLUMN(Calendar!G21)-1)} -> Sat | R27: {=INDEX(Day_List,MATCH(Input_Start_Of_Week,Day_List,0)+COLUMN(Calendar!A21)-1)} -> Sun | S27: {=INDEX(Day_List,MATCH(Input_Start_Of_Week,Day_List,0)+COLUMN(Calendar!B21)-1)} -> Mon | T27: {=INDEX(Day_List,MATCH(Input_Start_Of_Week,Day_List,0)+COLUMN(Calendar!C21)-1)} -> Tue | U27: {=INDEX(Day_List,MATCH(Input_Start_Of_Week,Day_List,0)+COLUMN(Calendar!D21)-1)} -> Wed | V27: {=INDEX(Day_List,MATCH(Input_Start_Of_Week,Day_List,0)+COLUMN(Calendar!E21)-1)} -> Thu | W27: {=INDEX(Day_List,MATCH(Input_Start_Of_Week,Day_List,0)+COLUMN(Calendar!F21)-1)} -> Fri | X27: {=INDEX(Day_List,MATCH(Input_Start_Of_Week,Day_List,0)+COLUMN(Calendar!G21)-1)} -> Sat
B28: =IF(TEXT($B$26,"DDD")=B27,$B$26,"") -> 45200 | C28: =IF(B28="",IF(TEXT($B$26,"DDD")=C27,$B$26,""),B28+1) -> 45201 | D28: =IF(C28="",IF(TEXT($B$26,"DDD")=D27,$B$26,""),C28+1) -> 45202 | E28: =IF(D28="",IF(TEXT($B$26,"DDD")=E27,$B$26,""),D28+1) -> 45203 | F28: =IF(E28="",IF(TEXT($B$26,"DDD")=F27,$B$26,""),E28+1) -> 45204 | G28: =IF(F28="",IF(TEXT($B$26,"DDD")=G27,$B$26,""),F28+1) -> 45205 | H28: =IF(G28="",IF(TEXT($B$26,"DDD")=H27,$B$26,""),G28+1) -> 45206 | J28: =IF(TEXT($J$26,"DDD")=J27,$J$26,"") | K28: =IF(J28="",IF(TEXT($J$26,"DDD")=K27,$J$26,""),J28+1) | L28: =IF(K28="",IF(TEXT($J$26,"DDD")=L27,$J$26,""),K28+1) | M28: =IF(L28="",IF(TEXT($J$26,"DDD")=M27,$J$26,""),L28+1) -> 45231 | N28: =IF(M28="",IF(TEXT($J$26,"DDD")=N27,$J$26,""),M28+1) -> 45232 | O28: =IF(N28="",IF(TEXT($J$26,"DDD")=O27,$J$26,""),N28+1) -> 45233 | P28: =IF(O28="",IF(TEXT($J$26,"DDD")=P27,$J$26,""),O28+1) -> 45234 | R28: =IF(TEXT($R$26,"DDD")=R27,$R$26,"") | S28: =IF(R28="",IF(TEXT($R$26,"DDD")=S27,$R$26,""),R28+1) | T28: =IF(S28="",IF(TEXT($R$26,"DDD")=T27,$R$26,""),S28+1) | U28: =IF(T28="",IF(TEXT($R$26,"DDD")=U27,$R$26,""),T28+1) | V28: =IF(U28="",IF(TEXT($R$26,"DDD")=V27,$R$26,""),U28+1) | W28: =IF(V28="",IF(TEXT($R$26,"DDD")=W27,$R$26,""),V28+1) -> 45261 | X28: =IF(W28="",IF(TEXT($R$26,"DDD")=X27,$R$26,""),W28+1) -> 45262
B29: =IF(H28="","",IF(EOMONTH($B$26,0)>=H28+1,H28+1,"")) -> 45207 | C29: =IF(B29="","",IF(EOMONTH($B$26,0)>=B29+1,B29+1,"")) -> 45208 | D29: =IF(C29="","",IF(EOMONTH($B$26,0)>=C29+1,C29+1,"")) -> 45209 | E29: =IF(D29="","",IF(EOMONTH($B$26,0)>=D29+1,D29+1,"")) -> 45210 | F29: =IF(E29="","",IF(EOMONTH($B$26,0)>=E29+1,E29+1,"")) -> 45211 | G29: =IF(F29="","",IF(EOMONTH($B$26,0)>=F29+1,F29+1,"")) -> 45212 | H29: =IF(G29="","",IF(EOMONTH($B$26,0)>=G29+1,G29+1,"")) -> 45213 | J29: =IF(P28="","",IF(EOMONTH($J$26,0)>=P28+1,P28+1,"")) -> 45235 | K29: =IF(J29="","",IF(EOMONTH($J$26,0)>=J29+1,J29+1,"")) -> 45236 | L29: =IF(K29="","",IF(EOMONTH($J$26,0)>=K29+1,K29+1,"")) -> 45237 | M29: =IF(L29="","",IF(EOMONTH($J$26,0)>=L29+1,L29+1,"")) -> 45238 | N29: =IF(M29="","",IF(EOMONTH($J$26,0)>=M29+1,M29+1,"")) -> 45239 | O29: =IF(N29="","",IF(EOMONTH($J$26,0)>=N29+1,N29+1,"")) -> 45240 | P29: =IF(O29="","",IF(EOMONTH($J$26,0)>=O29+1,O29+1,"")) -> 45241 | R29: =IF(X28="","",IF(EOMONTH($R$26,0)>=X28+1,X28+1,"")) -> 45263 | S29: =IF(R29="","",IF(EOMONTH($R$26,0)>=R29+1,R29+1,"")) -> 45264 | T29: =IF(S29="","",IF(EOMONTH($R$26,0)>=S29+1,S29+1,"")) -> 45265 | U29: =IF(T29="","",IF(EOMONTH($R$26,0)>=T29+1,T29+1,"")) -> 45266 | V29: =IF(U29="","",IF(EOMONTH($R$26,0)>=U29+1,U29+1,"")) -> 45267 | W29: =IF(V29="","",IF(EOMONTH($R$26,0)>=V29+1,V29+1,"")) -> 45268 | X29: =IF(W29="","",IF(EOMONTH($R$26,0)>=W29+1,W29+1,"")) -> 45269
B30: =IF(H29="","",IF(EOMONTH($B$26,0)>=H29+1,H29+1,"")) -> 45214 | C30: =IF(B30="","",IF(EOMONTH($B$26,0)>=B30+1,B30+1,"")) -> 45215 | D30: =IF(C30="","",IF(EOMONTH($B$26,0)>=C30+1,C30+1,"")) -> 45216 | E30: =IF(D30="","",IF(EOMONTH($B$26,0)>=D30+1,D30+1,"")) -> 45217 | F30: =IF(E30="","",IF(EOMONTH($B$26,0)>=E30+1,E30+1,"")) -> 45218 | G30: =IF(F30="","",IF(EOMONTH($B$26,0)>=F30+1,F30+1,"")) -> 45219 | H30: =IF(G30="","",IF(EOMONTH($B$26,0)>=G30+1,G30+1,"")) -> 45220 | J30: =IF(P29="","",IF(EOMONTH($J$26,0)>=P29+1,P29+1,"")) -> 45242 | K30: =IF(J30="","",IF(EOMONTH($J$26,0)>=J30+1,J30+1,"")) -> 45243 | L30: =IF(K30="","",IF(EOMONTH($J$26,0)>=K30+1,K30+1,"")) -> 45244 | M30: =IF(L30="","",IF(EOMONTH($J$26,0)>=L30+1,L30+1,"")) -> 45245 | N30: =IF(M30="","",IF(EOMONTH($J$26,0)>=M30+1,M30+1,"")) -> 45246 | O30: =IF(N30="","",IF(EOMONTH($J$26,0)>=N30+1,N30+1,"")) -> 45247 | P30: =IF(O30="","",IF(EOMONTH($J$26,0)>=O30+1,O30+1,"")) -> 45248 | R30: =IF(X29="","",IF(EOMONTH($R$26,0)>=X29+1,X29+1,"")) -> 45270 | S30: =IF(R30="","",IF(EOMONTH($R$26,0)>=R30+1,R30+1,"")) -> 45271 | T30: =IF(S30="","",IF(EOMONTH($R$26,0)>=S30+1,S30+1,"")) -> 45272 | U30: =IF(T30="","",IF(EOMONTH($R$26,0)>=T30+1,T30+1,"")) -> 45273 | V30: =IF(U30="","",IF(EOMONTH($R$26,0)>=U30+1,U30+1,"")) -> 45274 | W30: =IF(V30="","",IF(EOMONTH($R$26,0)>=V30+1,V30+1,"")) -> 45275 | X30: =IF(W30="","",IF(EOMONTH($R$26,0)>=W30+1,W30+1,"")) -> 45276
B31: =IF(H30="","",IF(EOMONTH($B$26,0)>=H30+1,H30+1,"")) -> 45221 | C31: =IF(B31="","",IF(EOMONTH($B$26,0)>=B31+1,B31+1,"")) -> 45222 | D31: =IF(C31="","",IF(EOMONTH($B$26,0)>=C31+1,C31+1,"")) -> 45223 | E31: =IF(D31="","",IF(EOMONTH($B$26,0)>=D31+1,D31+1,"")) -> 45224 | F31: =IF(E31="","",IF(EOMONTH($B$26,0)>=E31+1,E31+1,"")) -> 45225 | G31: =IF(F31="","",IF(EOMONTH($B$26,0)>=F31+1,F31+1,"")) -> 45226 | H31: =IF(G31="","",IF(EOMONTH($B$26,0)>=G31+1,G31+1,"")) -> 45227 | J31: =IF(P30="","",IF(EOMONTH($J$26,0)>=P30+1,P30+1,"")) -> 45249 | K31: =IF(J31="","",IF(EOMONTH($J$26,0)>=J31+1,J31+1,"")) -> 45250 | L31: =IF(K31="","",IF(EOMONTH($J$26,0)>=K31+1,K31+1,"")) -> 45251 | M31: =IF(L31="","",IF(EOMONTH($J$26,0)>=L31+1,L31+1,"")) -> 45252 | N31: =IF(M31="","",IF(EOMONTH($J$26,0)>=M31+1,M31+1,"")) -> 45253 | O31: =IF(N31="","",IF(EOMONTH($J$26,0)>=N31+1,N31+1,"")) -> 45254 | P31: =IF(O31="","",IF(EOMONTH($J$26,0)>=O31+1,O31+1,"")) -> 45255 | R31: =IF(X30="","",IF(EOMONTH($R$26,0)>=X30+1,X30+1,"")) -> 45277 | S31: =IF(R31="","",IF(EOMONTH($R$26,0)>=R31+1,R31+1,"")) -> 45278 | T31: =IF(S31="","",IF(EOMONTH($R$26,0)>=S31+1,S31+1,"")) -> 45279 | U31: =IF(T31="","",IF(EOMONTH($R$26,0)>=T31+1,T31+1,"")) -> 45280 | V31: =IF(U31="","",IF(EOMONTH($R$26,0)>=U31+1,U31+1,"")) -> 45281 | W31: =IF(V31="","",IF(EOMONTH($R$26,0)>=V31+1,V31+1,"")) -> 45282 | X31: =IF(W31="","",IF(EOMONTH($R$26,0)>=W31+1,W31+1,"")) -> 45283
B32: =IF(H31="","",IF(EOMONTH($B$26,0)>=H31+1,H31+1,"")) -> 45228 | C32: =IF(B32="","",IF(EOMONTH($B$26,0)>=B32+1,B32+1,"")) -> 45229 | D32: =IF(C32="","",IF(EOMONTH($B$26,0)>=C32+1,C32+1,"")) -> 45230 | E32: =IF(D32="","",IF(EOMONTH($B$26,0)>=D32+1,D32+1,"")) | F32: =IF(E32="","",IF(EOMONTH($B$26,0)>=E32+1,E32+1,"")) | G32: =IF(F32="","",IF(EOMONTH($B$26,0)>=F32+1,F32+1,"")) | H32: =IF(G32="","",IF(EOMONTH($B$26,0)>=G32+1,G32+1,"")) | J32: =IF(P31="","",IF(EOMONTH($J$26,0)>=P31+1,P31+1,"")) -> 45256 | K32: =IF(J32="","",IF(EOMONTH($J$26,0)>=J32+1,J32+1,"")) -> 45257 | L32: =IF(K32="","",IF(EOMONTH($J$26,0)>=K32+1,K32+1,"")) -> 45258 | M32: =IF(L32="","",IF(EOMONTH($J$26,0)>=L32+1,L32+1,"")) -> 45259 | N32: =IF(M32="","",IF(EOMONTH($J$26,0)>=M32+1,M32+1,"")) -> 45260 | O32: =IF(N32="","",IF(EOMONTH($J$26,0)>=N32+1,N32+1,"")) | P32: =IF(O32="","",IF(EOMONTH($J$26,0)>=O32+1,O32+1,"")) | R32: =IF(X31="","",IF(EOMONTH($R$26,0)>=X31+1,X31+1,"")) -> 45284 | S32: =IF(R32="","",IF(EOMONTH($R$26,0)>=R32+1,R32+1,"")) -> 45285 | T32: =IF(S32="","",IF(EOMONTH($R$26,0)>=S32+1,S32+1,"")) -> 45286 | U32: =IF(T32="","",IF(EOMONTH($R$26,0)>=T32+1,T32+1,"")) -> 45287 | V32: =IF(U32="","",IF(EOMONTH($R$26,0)>=U32+1,U32+1,"")) -> 45288 | W32: =IF(V32="","",IF(EOMONTH($R$26,0)>=V32+1,V32+1,"")) -> 45289 | X32: =IF(W32="","",IF(EOMONTH($R$26,0)>=W32+1,W32+1,"")) -> 45290
B33: =IF(H32="","",IF(EOMONTH($B$26,0)>=H32+1,H32+1,"")) | C33: =IF(B33="","",IF(EOMONTH($B$26,0)>=B33+1,B33+1,"")) | D33: =IF(C33="","",IF(EOMONTH($B$26,0)>=C33+1,C33+1,"")) | E33: =IF(D33="","",IF(EOMONTH($B$26,0)>=D33+1,D33+1,"")) | F33: =IF(E33="","",IF(EOMONTH($B$26,0)>=E33+1,E33+1,"")) | G33: =IF(F33="","",IF(EOMONTH($B$26,0)>=F33+1,F33+1,"")) | H33: =IF(G33="","",IF(EOMONTH($B$26,0)>=G33+1,G33+1,"")) | J33: =IF(P32="","",IF(EOMONTH($J$26,0)>=P32+1,P32+1,"")) | K33: =IF(J33="","",IF(EOMONTH($J$26,0)>=J33+1,J33+1,"")) | L33: =IF(K33="","",IF(EOMONTH($J$26,0)>=K33+1,K33+1,"")) | M33: =IF(L33="","",IF(EOMONTH($J$26,0)>=L33+1,L33+1,"")) | N33: =IF(M33="","",IF(EOMONTH($J$26,0)>=M33+1,M33+1,"")) | O33: =IF(N33="","",IF(EOMONTH($J$26,0)>=N33+1,N33+1,"")) | P33: =IF(O33="","",IF(EOMONTH($J$26,0)>=O33+1,O33+1,"")) | R33: =IF(X32="","",IF(EOMONTH($R$26,0)>=X32+1,X32+1,"")) -> 45291 | S33: =IF(R33="","",IF(EOMONTH($R$26,0)>=R33+1,R33+1,"")) | T33: =IF(S33="","",IF(EOMONTH($R$26,0)>=S33+1,S33+1,"")) | U33: =IF(T33="","",IF(EOMONTH($R$26,0)>=T33+1,T33+1,"")) | V33: =IF(U33="","",IF(EOMONTH($R$26,0)>=U33+1,U33+1,"")) | W33: =IF(V33="","",IF(EOMONTH($R$26,0)>=V33+1,V33+1,"")) | X33: =IF(W33="","",IF(EOMONTH($R$26,0)>=W33+1,W33+1,""))
B36: {=DATE(Input_Year,Input_Start_With_Month+9,1)} -> 45292 | J36: {=DATE(Input_Year,Input_Start_With_Month+10,1)} -> 45323 | R36: {=DATE(Input_Year,Input_Start_With_Month+11,1)} -> 45352
B37: {=INDEX(Day_List,MATCH(Input_Start_Of_Week,Day_List,0)+COLUMN(Calendar!A31)-1)} -> Sun | C37: {=INDEX(Day_List,MATCH(Input_Start_Of_Week,Day_List,0)+COLUMN(Calendar!B31)-1)} -> Mon | D37: {=INDEX(Day_List,MATCH(Input_Start_Of_Week,Day_List,0)+COLUMN(Calendar!C31)-1)} -> Tue | E37: {=INDEX(Day_List,MATCH(Input_Start_Of_Week,Day_List,0)+COLUMN(Calendar!D31)-1)} -> Wed | F37: {=INDEX(Day_List,MATCH(Input_Start_Of_Week,Day_List,0)+COLUMN(Calendar!E31)-1)} -> Thu | G37: {=INDEX(Day_List,MATCH(Input_Start_Of_Week,Day_List,0)+COLUMN(Calendar!F31)-1)} -> Fri | H37: {=INDEX(Day_List,MATCH(Input_Start_Of_Week,Day_List,0)+COLUMN(Calendar!G31)-1)} -> Sat | J37: {=INDEX(Day_List,MATCH(Input_Start_Of_Week,Day_List,0)+COLUMN(Calendar!A31)-1)} -> Sun | K37: {=INDEX(Day_List,MATCH(Input_Start_Of_Week,Day_List,0)+COLUMN(Calendar!B31)-1)} -> Mon | L37: {=INDEX(Day_List,MATCH(Input_Start_Of_Week,Day_List,0)+COLUMN(Calendar!C31)-1)} -> Tue | M37: {=INDEX(Day_List,MATCH(Input_Start_Of_Week,Day_List,0)+COLUMN(Calendar!D31)-1)} -> Wed | N37: {=INDEX(Day_List,MATCH(Input_Start_Of_Week,Day_List,0)+COLUMN(Calendar!E31)-1)} -> Thu | O37: {=INDEX(Day_List,MATCH(Input_Start_Of_Week,Day_List,0)+COLUMN(Calendar!F31)-1)} -> Fri | P37: {=INDEX(Day_List,MATCH(Input_Start_Of_Week,Day_List,0)+COLUMN(Calendar!G31)-1)} -> Sat | R37: {=INDEX(Day_List,MATCH(Input_Start_Of_Week,Day_List,0)+COLUMN(Calendar!A31)-1)} -> Sun | S37: {=INDEX(Day_List,MATCH(Input_Start_Of_Week,Day_List,0)+COLUMN(Calendar!B31)-1)} -> Mon | T37: {=INDEX(Day_List,MATCH(Input_Start_Of_Week,Day_List,0)+COLUMN(Calendar!C31)-1)} -> Tue | U37: {=INDEX(Day_List,MATCH(Input_Start_Of_Week,Day_List,0)+COLUMN(Calendar!D31)-1)} -> Wed | V37: {=INDEX(Day_List,MATCH(Input_Start_Of_Week,Day_List,0)+COLUMN(Calendar!E31)-1)} -> Thu | W37: {=INDEX(Day_List,MATCH(Input_Start_Of_Week,Day_List,0)+COLUMN(Calendar!F31)-1)} -> Fri | X37: {=INDEX(Day_List,MATCH(Input_Start_Of_Week,Day_List,0)+COLUMN(Calendar!G31)-1)} -> Sat
B38: =IF(TEXT($B$36,"DDD")=B37,$B$36,"") | C38: =IF(B38="",IF(TEXT($B$36,"DDD")=C37,$B$36,""),B38+1) -> 45292 | D38: =IF(C38="",IF(TEXT($B$36,"DDD")=D37,$B$36,""),C38+1) -> 45293 | E38: =IF(D38="",IF(TEXT($B$36,"DDD")=E37,$B$36,""),D38+1) -> 45294 | F38: =IF(E38="",IF(TEXT($B$36,"DDD")=F37,$B$36,""),E38+1) -> 45295 | G38: =IF(F38="",IF(TEXT($B$36,"DDD")=G37,$B$36,""),F38+1) -> 45296 | H38: =IF(G38="",IF(TEXT($B$36,"DDD")=H37,$B$36,""),G38+1) -> 45297 | J38: =IF(TEXT($J$36,"DDD")=J37,$J$36,"") | K38: =IF(J38="",IF(TEXT($J$36,"DDD")=K37,$J$36,""),J38+1) | L38: =IF(K38="",IF(TEXT($J$36,"DDD")=L37,$J$36,""),K38+1) | M38: =IF(L38="",IF(TEXT($J$36,"DDD")=M37,$J$36,""),L38+1) | N38: =IF(M38="",IF(TEXT($J$36,"DDD")=N37,$J$36,""),M38+1) -> 45323 | O38: =IF(N38="",IF(TEXT($J$36,"DDD")=O37,$J$36,""),N38+1) -> 45324 | P38: =IF(O38="",IF(TEXT($J$36,"DDD")=P37,$J$36,""),O38+1) -> 45325 | R38: =IF(TEXT($R$36,"DDD")=R37,$R$36,"") | S38: =IF(R38="",IF(TEXT($R$36,"DDD")=S37,$R$36,""),R38+1) | T38: =IF(S38="",IF(TEXT($R$36,"DDD")=T37,$R$36,""),S38+1) | U38: =IF(T38="",IF(TEXT($R$36,"DDD")=U37,$R$36,""),T38+1) | V38: =IF(U38="",IF(TEXT($R$36,"DDD")=V37,$R$36,""),U38+1) | W38: =IF(V38="",IF(TEXT($R$36,"DDD")=W37,$R$36,""),V38+1) -> 45352 | X38: =IF(W38="",IF(TEXT($R$36,"DDD")=X37,$R$36,""),W38+1) -> 45353
B39: =IF(H38="","",IF(EOMONTH($B$36,0)>=H38+1,H38+1,"")) -> 45298 | C39: =IF(B39="","",IF(EOMONTH($B$36,0)>=B39+1,B39+1,"")) -> 45299 | D39: =IF(C39="","",IF(EOMONTH($B$36,0)>=C39+1,C39+1,"")) -> 45300 | E39: =IF(D39="","",IF(EOMONTH($B$36,0)>=D39+1,D39+1,"")) -> 45301 | F39: =IF(E39="","",IF(EOMONTH($B$36,0)>=E39+1,E39+1,"")) -> 45302 | G39: =IF(F39="","",IF(EOMONTH($B$36,0)>=F39+1,F39+1,"")) -> 45303 | H39: =IF(G39="","",IF(EOMONTH($B$36,0)>=G39+1,G39+1,"")) -> 45304 | J39: =IF(P38="","",IF(EOMONTH($J$36,0)>=P38+1,P38+1,"")) -> 45326 | K39: =IF(J39="","",IF(EOMONTH($J$36,0)>=J39+1,J39+1,"")) -> 45327 | L39: =IF(K39="","",IF(EOMONTH($J$36,0)>=K39+1,K39+1,"")) -> 45328 | M39: =IF(L39="","",IF(EOMONTH($J$36,0)>=L39+1,L39+1,"")) -> 45329 | N39: =IF(M39="","",IF(EOMONTH($J$36,0)>=M39+1,M39+1,"")) -> 45330 | O39: =IF(N39="","",IF(EOMONTH($J$36,0)>=N39+1,N39+1,"")) -> 45331 | P39: =IF(O39="","",IF(EOMONTH($J$36,0)>=O39+1,O39+1,"")) -> 45332 | R39: =IF(X38="","",IF(EOMONTH($R$36,0)>=X38+1,X38+1,"")) -> 45354 | S39: =IF(R39="","",IF(EOMONTH($R$36,0)>=R39+1,R39+1,"")) -> 45355 | T39: =IF(S39="","",IF(EOMONTH($R$36,0)>=S39+1,S39+1,"")) -> 45356 | U39: =IF(T39="","",IF(EOMONTH($R$36,0)>=T39+1,T39+1,"")) -> 45357 | V39: =IF(U39="","",IF(EOMONTH($R$36,0)>=U39+1,U39+1,"")) -> 45358 | W39: =IF(V39="","",IF(EOMONTH($R$36,0)>=V39+1,V39+1,"")) -> 45359 | X39: =IF(W39="","",IF(EOMONTH($R$36,0)>=W39+1,W39+1,"")) -> 45360
B40: =IF(H39="","",IF(EOMONTH($B$36,0)>=H39+1,H39+1,"")) -> 45305 | C40: =IF(B40="","",IF(EOMONTH($B$36,0)>=B40+1,B40+1,"")) -> 45306 | D40: =IF(C40="","",IF(EOMONTH($B$36,0)>=C40+1,C40+1,"")) -> 45307 | E40: =IF(D40="","",IF(EOMONTH($B$36,0)>=D40+1,D40+1,"")) -> 45308 | F40: =IF(E40="","",IF(EOMONTH($B$36,0)>=E40+1,E40+1,"")) -> 45309 | G40: =IF(F40="","",IF(EOMONTH($B$36,0)>=F40+1,F40+1,"")) -> 45310 | H40: =IF(G40="","",IF(EOMONTH($B$36,0)>=G40+1,G40+1,"")) -> 45311 | J40: =IF(P39="","",IF(EOMONTH($J$36,0)>=P39+1,P39+1,"")) -> 45333 | K40: =IF(J40="","",IF(EOMONTH($J$36,0)>=J40+1,J40+1,"")) -> 45334 | L40: =IF(K40="","",IF(EOMONTH($J$36,0)>=K40+1,K40+1,"")) -> 45335 | M40: =IF(L40="","",IF(EOMONTH($J$36,0)>=L40+1,L40+1,"")) -> 45336 | N40: =IF(M40="","",IF(EOMONTH($J$36,0)>=M40+1,M40+1,"")) -> 45337 | O40: =IF(N40="","",IF(EOMONTH($J$36,0)>=N40+1,N40+1,"")) -> 45338 | P40: =IF(O40="","",IF(EOMONTH($J$36,0)>=O40+1,O40+1,"")) -> 45339 | R40: =IF(X39="","",IF(EOMONTH($R$36,0)>=X39+1,X39+1,"")) -> 45361 | S40: =IF(R40="","",IF(EOMONTH($R$36,0)>=R40+1,R40+1,"")) -> 45362 | T40: =IF(S40="","",IF(EOMONTH($R$36,0)>=S40+1,S40+1,"")) -> 45363 | U40: =IF(T40="","",IF(EOMONTH($R$36,0)>=T40+1,T40+1,"")) -> 45364 | V40: =IF(U40="","",IF(EOMONTH($R$36,0)>=U40+1,U40+1,"")) -> 45365 | W40: =IF(V40="","",IF(EOMONTH($R$36,0)>=V40+1,V40+1,"")) -> 45366 | X40: =IF(W40="","",IF(EOMONTH($R$36,0)>=W40+1,W40+1,"")) -> 45367
B41: =IF(H40="","",IF(EOMONTH($B$36,0)>=H40+1,H40+1,"")) -> 45312 | C41: =IF(B41="","",IF(EOMONTH($B$36,0)>=B41+1,B41+1,"")) -> 45313 | D41: =IF(C41="","",IF(EOMONTH($B$36,0)>=C41+1,C41+1,"")) -> 45314 | E41: =IF(D41="","",IF(EOMONTH($B$36,0)>=D41+1,D41+1,"")) -> 45315 | F41: =IF(E41="","",IF(EOMONTH($B$36,0)>=E41+1,E41+1,"")) -> 45316 | G41: =IF(F41="","",IF(EOMONTH($B$36,0)>=F41+1,F41+1,"")) -> 45317 | H41: =IF(G41="","",IF(EOMONTH($B$36,0)>=G41+1,G41+1,"")) -> 45318 | J41: =IF(P40="","",IF(EOMONTH($J$36,0)>=P40+1,P40+1,"")) -> 45340 | K41: =IF(J41="","",IF(EOMONTH($J$36,0)>=J41+1,J41+1,"")) -> 45341 | L41: =IF(K41="","",IF(EOMONTH($J$36,0)>=K41+1,K41+1,"")) -> 45342 | M41: =IF(L41="","",IF(EOMONTH($J$36,0)>=L41+1,L41+1,"")) -> 45343 | N41: =IF(M41="","",IF(EOMONTH($J$36,0)>=M41+1,M41+1,"")) -> 45344 | O41: =IF(N41="","",IF(EOMONTH($J$36,0)>=N41+1,N41+1,"")) -> 45345 | P41: =IF(O41="","",IF(EOMONTH($J$36,0)>=O41+1,O41+1,"")) -> 45346 | R41: =IF(X40="","",IF(EOMONTH($R$36,0)>=X40+1,X40+1,"")) -> 45368 | S41: =IF(R41="","",IF(EOMONTH($R$36,0)>=R41+1,R41+1,"")) -> 45369 | T41: =IF(S41="","",IF(EOMONTH($R$36,0)>=S41+1,S41+1,"")) -> 45370 | U41: =IF(T41="","",IF(EOMONTH($R$36,0)>=T41+1,T41+1,"")) -> 45371 | V41: =IF(U41="","",IF(EOMONTH($R$36,0)>=U41+1,U41+1,"")) -> 45372 | W41: =IF(V41="","",IF(EOMONTH($R$36,0)>=V41+1,V41+1,"")) -> 45373 | X41: =IF(W41="","",IF(EOMONTH($R$36,0)>=W41+1,W41+1,"")) -> 45374
B42: =IF(H41="","",IF(EOMONTH($B$36,0)>=H41+1,H41+1,"")) -> 45319 | C42: =IF(B42="","",IF(EOMONTH($B$36,0)>=B42+1,B42+1,"")) -> 45320 | D42: =IF(C42="","",IF(EOMONTH($B$36,0)>=C42+1,C42+1,"")) -> 45321 | E42: =IF(D42="","",IF(EOMONTH($B$36,0)>=D42+1,D42+1,"")) -> 45322 | F42: =IF(E42="","",IF(EOMONTH($B$36,0)>=E42+1,E42+1,"")) | G42: =IF(F42="","",IF(EOMONTH($B$36,0)>=F42+1,F42+1,"")) | H42: =IF(G42="","",IF(EOMONTH($B$36,0)>=G42+1,G42+1,"")) | J42: =IF(P41="","",IF(EOMONTH($J$36,0)>=P41+1,P41+1,"")) -> 45347 | K42: =IF(J42="","",IF(EOMONTH($J$36,0)>=J42+1,J42+1,"")) -> 45348 | L42: =IF(K42="","",IF(EOMONTH($J$36,0)>=K42+1,K42+1,"")) -> 45349 | M42: =IF(L42="","",IF(EOMONTH($J$36,0)>=L42+1,L42+1,"")) -> 45350 | N42: =IF(M42="","",IF(EOMONTH($J$36,0)>=M42+1,M42+1,"")) -> 45351 | O42: =IF(N42="","",IF(EOMONTH($J$36,0)>=N42+1,N42+1,"")) | P42: =IF(O42="","",IF(EOMONTH($J$36,0)>=O42+1,O42+1,"")) | R42: =IF(X41="","",IF(EOMONTH($R$36,0)>=X41+1,X41+1,"")) -> 45375 | S42: =IF(R42="","",IF(EOMONTH($R$36,0)>=R42+1,R42+1,"")) -> 45376 | T42: =IF(S42="","",IF(EOMONTH($R$36,0)>=S42+1,S42+1,"")) -> 45377 | U42: =IF(T42="","",IF(EOMONTH($R$36,0)>=T42+1,T42+1,"")) -> 45378 | V42: =IF(U42="","",IF(EOMONTH($R$36,0)>=U42+1,U42+1,"")) -> 45379 | W42: =IF(V42="","",IF(EOMONTH($R$36,0)>=V42+1,V42+1,"")) -> 45380 | X42: =IF(W42="","",IF(EOMONTH($R$36,0)>=W42+1,W42+1,"")) -> 45381
B43: =IF(H42="","",IF(EOMONTH($B$36,0)>=H42+1,H42+1,"")) | C43: =IF(B43="","",IF(EOMONTH($B$36,0)>=B43+1,B43+1,"")) | D43: =IF(C43="","",IF(EOMONTH($B$36,0)>=C43+1,C43+1,"")) | E43: =IF(D43="","",IF(EOMONTH($B$36,0)>=D43+1,D43+1,"")) | F43: =IF(E43="","",IF(EOMONTH($B$36,0)>=E43+1,E43+1,"")) | G43: =IF(F43="","",IF(EOMONTH($B$36,0)>=F43+1,F43+1,"")) | H43: =IF(G43="","",IF(EOMONTH($B$36,0)>=G43+1,G43+1,"")) | J43: =IF(P42="","",IF(EOMONTH($J$36,0)>=P42+1,P42+1,"")) | K43: =IF(J43="","",IF(EOMONTH($J$36,0)>=J43+1,J43+1,"")) | L43: =IF(K43="","",IF(EOMONTH($J$36,0)>=K43+1,K43+1,"")) | M43: =IF(L43="","",IF(EOMONTH($J$36,0)>=L43+1,L43+1,"")) | N43: =IF(M43="","",IF(EOMONTH($J$36,0)>=M43+1,M43+1,"")) | O43: =IF(N43="","",IF(EOMONTH($J$36,0)>=N43+1,N43+1,"")) | P43: =IF(O43="","",IF(EOMONTH($J$36,0)>=O43+1,O43+1,"")) | R43: =IF(X42="","",IF(EOMONTH($R$36,0)>=X42+1,X42+1,"")) -> 45382 | S43: =IF(R43="","",IF(EOMONTH($R$36,0)>=R43+1,R43+1,"")) | T43: =IF(S43="","",IF(EOMONTH($R$36,0)>=S43+1,S43+1,"")) | U43: =IF(T43="","",IF(EOMONTH($R$36,0)>=T43+1,T43+1,"")) | V43: =IF(U43="","",IF(EOMONTH($R$36,0)>=U43+1,U43+1,"")) | W43: =IF(V43="","",IF(EOMONTH($R$36,0)>=V43+1,V43+1,"")) | X43: =IF(W43="","",IF(EOMONTH($R$36,0)>=W43+1,W43+1,""))
A48: Source: WWW.PK-AnExcelExpert.Com

Sheet Holiday_List
A1: Date | B1: Day | C1: Holiday | D1: Holiday Type
A2: 44927 | B2: Sunday | C2: New Year's Day | D2: Restricted Holiday
A3: 44940 | B3: Saturday | C3: Makar Sankranti | D3: Restricted Holiday
A4: 44940 | B4: Saturday | C4: Lohri | D4: Observance
A5: 44941 | B5: Sunday | C5: Pongal | D5: Restricted Holiday
A6: 44948 | B6: Sunday | C6: Lunar New Year | D6: Observance
A7: 44952 | B7: Thursday | C7: Republic Day | D7: Gazetted Holiday
A8: 44952 | B8: Thursday | C8: Vasant Panchami | D8: Restricted Holiday
A9: 44962 | B9: Sunday | C9: Guru Ravidas Jayanti | D9: Restricted Holiday
A10: 44962 | B10: Sunday | C10: Hazarat Ali's Birthday | D10: Restricted Holiday
A11: 44971 | B11: Tuesday | C11: Valentine's Day | D11: Observance
A12: 44972 | B12: Wednesday | C12: Maharishi Dayanand Saraswati Jayanti | D12: Restricted Holiday
A13: 44975 | B13: Saturday | C13: Maha Shivaratri/Shivaratri | D13: Restricted Holiday
... A77: 45291 | B77: Sunday | C77: New Year's Eve | D77: Observance

Sheet Resource Links
B4: Download our free Excel utility Tool and improve your productivity: | L4: YouTube Channel:
B5: https://www.pk-anexcelexpert.com/products/pks-utility-tool-v2-0/ | L5: https://www.youtube.com/c/PKAnExcelExpert
B7: See our Excel Products: | L7: Website:
B8: https://www.pk-anexcelexpert.com/products/ | L8: https://WWW.PK-AnExcelExpert.com
B10: Visit to learn more: | L10: Facebook:
B11: Chart and Visualizations: | C11: https://www.pk-anexcelexpert.com/category/blogs/charts-and-visualization/ | L11: https://www.facebook.com/PKAnExcelExpert
B12: VBA Course: | C12: https://www.pk-anexcelexpert.com/vba/
B13: Download useful Templates: | C13: https://www.pk-anexcelexpert.com/category/templates/ | L13: Telegram:
B14: Dashboards: | C14: https://www.pk-anexcelexpert.com/excel-dashboard/ | L14: https://t.me/joinchat/AAAAAE2OnviiEk5o1o8i4w
B16: Watch the best info-graphics and dynamic charts from below link: | L16: Pinterest:
B17: https://www.youtube.com/playlist?list=PLbDvAYjpWJ7CEAHn-iuGSeLbUtFnYekHr | L17: https://www.pinterest.com/PKAnExcelExpert/
B19: Learn and free download best excel Dashboard template: | L19: LinkedIn:
B20: https://www.youtube.com/playlist?list=PLbDvAYjpWJ7CpupRYMRkXSN0L92t7nUuF | L20: https://www.linkedin.com/company/pk-anexcelexpert
B22: Learn Step by Step VBA: | L22: Instagram:
B23: https://www.youtube.com/playlist?list=PLbDvAYjpWJ7BcoaFQD-syOrZzNSLZycwH | L23: https://www.instagram.com/pkanexcelexpert
L25: Visit our Amazon Store
L26: https://www.amazon.in/shop/PKAnExcelExpert

Sheet Setting
L1: Sun | M1: Default | N1: 2020 | O1: January | P1: Sun | Q1: None
B2: Inputs | L2: Mon | M2: Blue | N2: =N1+1 -> 2021 | O2: February | P2: Mon | Q2: Sun
B3: Year | C3: {=INDEX(N:N,D3)} -> 2023 | D3: 4 | L3: Tue | M3: Red | N3: =N2+1 -> 2022 | O3: March | P3: Tue | Q3: Mon
B4: Start with Month | C4: {=INDEX(O:O,D4)} -> April | D4: 4 | L4: Wed | M4: Black | N4: =N3+1 -> 2023 | O4: April | P4: Wed | Q4: Tue
B5: Week start with Day | C5: {=INDEX(P:P,D5)} -> Sun | D5: 1 | L5: Thu | M5: Orange | N5: =N4+1 -> 2024 | O5: May | P5: Thu | Q5: Wed
L6: Fri | N6: =N5+1 -> 2025 | O6: June | P6: Fri | Q6: Thu
L7: Sat | N7: =N6+1 -> 2026 | O7: July | P7: Sat | Q7: Fri
B8: Highlight | L8: Sun | N8: =N7+1 -> 2027 | O8: August | Q8: Sat
B9: Day of Week -1 | C9: {=INDEX(Q:Q,D9)} -> Sun | D9: 2 | L9: Mon | N9: =N8+1 -> 2028 | O9: September
B10: Day of Week -2 | C10: {=INDEX(Q:Q,D10)} -> None | D10: 1 | L10: Tue | N10: =N9+1 -> 2029 | O10: October
B11: Highlight Holiday | C11: =IF(D11,"Yes","No") -> Yes | D11: TRUE | L11: Wed | N11: =N10+1 -> 2030 | O11: November
L12: Thu | N12: =N11+1 -> 2031 | O12: December
N13: =N12+1 -> 2032
B14: Color Theme | L14: Fri | N14: =N13+1 -> 2033
B15: Whole Theme | C15: {=INDEX(M1:M5,D15)} -> Default | D15: 1 | L15: Sat | N15: =N14+1 -> 2034
N16: =N15+1 -> 2035
N17: =N16+1 -> 2036
N18: =N17+1 -> 2037
N19: =N18+1 -> 2038
N20: =N19+1 -> 2039
N21: =N20+1 -> 2040
N22: =N21+1 -> 2041
N23: =N22+1 -> 2042
N24: =N23+1 -> 2043
N25: =N24+1 -> 2044
N26: =N25+1 -> 2045
N27: =N26+1 -> 2046
... N31: =N30+1 -> 2050
