Workbook
Name Down_Arrow: Support!$P$2
Name KPI_Details: IF('KPI Definition'!XFD1048573="","",'KPI Definition'!XFD1048573)
Name KPI_Name: OFFSET('KPI Definition'!$C$2,,,COUNTA('KPI Definition'!$C$2:$C$1048576))
Name MTD_Actual: VLOOKUP('KPI Dashboard'!$D1,'KPI Input_ Actual'!$C:$AB,MATCH('KPI Dashboard'!$D$3,'KPI Input_ Actual'!$C$1:$XFD$1,0),0)
Name MTD_PY: VLOOKUP('KPI Dashboard'!$D1,'KPI Input - PY'!$C:$XFD,MATCH(PY_Month,'KPI Input - PY'!$C$1:$XFD$1,0),0)
Name MTD_Target: VLOOKUP('KPI Dashboard'!$D1,'KPI Input - Target'!$C:$XFD,MATCH('KPI Dashboard'!$D$3,'KPI Input - Target'!$C$1:$XFD$1,0),0)
Name PY_Month: DATE(YEAR('KPI Dashboard'!$D$3)-1,MONTH('KPI Dashboard'!$D$3),DAY('KPI Dashboard'!$D$3))
Name Up_Arrow: Support!$O$2
Name Up_Down_Arrorw: IF('KPI Dashboard'!B1="","",IF('KPI Dashboard'!B1>1,Up_Arrow,Down_Arrow))
Name YTD_Actual: VLOOKUP('KPI Dashboard'!$D1,'KPI Input_ Actual'!$C:$XFD,MATCH('KPI Dashboard'!$D$3,'KPI Input_ Actual'!$C$1:$XFD$1,0)+1,0)
Name YTD_PY: VLOOKUP('KPI Dashboard'!$D1,'KPI Input - PY'!$C:$XFD,MATCH(PY_Month,'KPI Input - PY'!$C$1:$XFD$1,0)+1,0)
Name YTD_Target: VLOOKUP('KPI Dashboard'!$D1,'KPI Input - Target'!$C:$XFD,MATCH('KPI Dashboard'!$D$3,'KPI Input - Target'!$C$1:$XFD$1,0)+1,0)

Sheet Home
A1: Interior Design KPI Dashboard
A14: Source: WWW.PK-AnExcelExpert.Com

Sheet KPI Dashboard
A1: ="Interior Design KPI Dashboard-" & YEAR('KPI Input_ Actual'!E1) -> Interior Design KPI Dashboard-2024
C3: Select Month | D3: 45413 | H3: MTD | P3: YTD
B5: KPI Number | C5: KPI Group | D5: KPI Name | E5: Unit | F5: Type | H5: Actual | I5: Target | J5: Target Vs Actual | L5: PY | M5: Actual Vs PY | P5: Actual | Q5: Target | R5: Actual Vs Target | T5: PY | U5: PY Vs Actual
B6: {=KPI_Details} -> 1 | C6: {=KPI_Details} -> Project Performance | D6: {=KPI_Details} -> Number of Projects Completed | E6: {=KPI_Details} -> Count | F6: =IF('KPI Definition'!G2="","",'KPI Definition'!G2) -> UTB | H6: {=IFERROR(IF(D6="","",MTD_Actual),"")} -> 431 | I6: {=IFERROR(IF(D6="","",MTD_Target),"")} -> 227.85 | J6: {=Up_Down_Arrorw} -> ▲ | K6: =IFERROR(H6/I6,"") -> 1.8915953 | L6: {=IFERROR(IF(D6="","",MTD_PY),"")} -> 464.93 | M6: {=Up_Down_Arrorw} -> ▼ | N6: =IFERROR(H6/L6,"") -> 0.92702127 | P6: {=IFERROR(IF(D6="","",YTD_Actual),"")} -> 1661 | Q6: {=IFERROR(IF(D6="","",YTD_Target),"")} -> 70.6 | R6: {=Up_Down_Arrorw} -> ▲ | S6: =IFERROR(P6/Q6,"") -> 23.526912 | T6: {=IFERROR(IF(D6="","",YTD_PY),"")} -> 114.21 | U6: {=Up_Down_Arrorw} -> ▲ | V6: =IFERROR(P6/T6,"") -> 14.543385
B7: {=KPI_Details} -> 2 | C7: {=KPI_Details} -> Project Performance | D7: {=KPI_Details} -> On-Time Project Completion Rate | E7: {=KPI_Details} -> (%) | F7: =IF('KPI Definition'!G3="","",'KPI Definition'!G3) -> UTB | H7: {=IFERROR(IF(D7="","",MTD_Actual),"")} -> 70 | I7: {=IFERROR(IF(D7="","",MTD_Target),"")} -> 75.3 | J7: {=Up_Down_Arrorw} -> ▼ | K7: =IFERROR(H7/I7,"") -> 0.92961487 | L7: {=IFERROR(IF(D7="","",MTD_PY),"")} -> 66.97 | M7: {=Up_Down_Arrorw} -> ▲ | N7: =IFERROR(H7/L7,"") -> 1.0452441 | P7: {=IFERROR(IF(D7="","",YTD_Actual),"")} -> 873 | Q7: {=IFERROR(IF(D7="","",YTD_Target),"")} -> 888.2 | R7: {=Up_Down_Arrorw} -> ▼ | S7: =IFERROR(P7/Q7,"") -> 0.98288674 | T7: {=IFERROR(IF(D7="","",YTD_PY),"")} -> 287.34 | U7: {=Up_Down_Arrorw} -> ▲ | V7: =IFERROR(P7/T7,"") -> 3.0382126
B8: {=KPI_Details} -> 3 | C8: {=KPI_Details} -> Client Satisfaction | D8: {=KPI_Details} -> Client Satisfaction Score | E8: {=KPI_Details} -> Score | F8: =IF('KPI Definition'!G4="","",'KPI Definition'!G4) -> UTB | H8: {=IFERROR(IF(D8="","",MTD_Actual),"")} -> 496 | I8: {=IFERROR(IF(D8="","",MTD_Target),"")} -> 14.12 | J8: {=Up_Down_Arrorw} -> ▲ | K8: =IFERROR(H8/I8,"") -> 35.127479 | L8: {=IFERROR(IF(D8="","",MTD_PY),"")} -> 257.13 | M8: {=Up_Down_Arrorw} -> ▲ | N8: =IFERROR(H8/L8,"") -> 1.9289853 | P8: {=IFERROR(IF(D8="","",YTD_Actual),"")} -> 1456 | Q8: {=IFERROR(IF(D8="","",YTD_Target),"")} -> 966.58 | R8: {=Up_Down_Arrorw} -> ▲ | S8: =IFERROR(P8/Q8,"") -> 1.5063419 | T8: {=IFERROR(IF(D8="","",YTD_PY),"")} -> 1759.34 | U8: {=Up_Down_Arrorw} -> ▼ | V8: =IFERROR(P8/T8,"") -> 0.82758307
B9: {=KPI_Details} -> 4 | C9: {=KPI_Details} -> Client Satisfaction | D9: {=KPI_Details} -> Net Promoter Score (NPS) | E9: {=KPI_Details} -> Score | F9: =IF('KPI Definition'!G5="","",'KPI Definition'!G5) -> UTB | H9: {=IFERROR(IF(D9="","",MTD_Actual),"")} -> 128 | I9: {=IFERROR(IF(D9="","",MTD_Target),"")} -> 116.12 | J9: {=Up_Down_Arrorw} -> ▲ | K9: =IFERROR(H9/I9,"") -> 1.102308 | L9: {=IFERROR(IF(D9="","",MTD_PY),"")} -> 131.5 | M9: {=Up_Down_Arrorw} -> ▼ | N9: =IFERROR(H9/L9,"") -> 0.97338403 | P9: {=IFERROR(IF(D9="","",YTD_Actual),"")} -> 1196 | Q9: {=IFERROR(IF(D9="","",YTD_Target),"")} -> 1271 | R9: {=Up_Down_Arrorw} -> ▼ | S9: =IFERROR(P9/Q9,"") -> 0.94099135 | T9: {=IFERROR(IF(D9="","",YTD_PY),"")} -> 280.28 | U9: {=Up_Down_Arrorw} -> ▲ | V9: =IFERROR(P9/T9,"") -> 4.2671614
B10: {=KPI_Details} -> 5 | C10: {=KPI_Details} -> Cost Management | D10: {=KPI_Details} -> Average Cost per Project | E10: {=KPI_Details} -> Currency | F10: =IF('KPI Definition'!G6="","",'KPI Definition'!G6) -> LTB | H10: {=IFERROR(IF(D10="","",MTD_Actual),"")} -> 72 | I10: {=IFERROR(IF(D10="","",MTD_Target),"")} -> 35.5 | J10: {=Up_Down_Arrorw} -> ▲ | K10: =IFERROR(H10/I10,"") -> 2.028169 | L10: {=IFERROR(IF(D10="","",MTD_PY),"")} -> 26.03 | M10: {=Up_Down_Arrorw} -> ▲ | N10: =IFERROR(H10/L10,"") -> 2.7660392 | P10: {=IFERROR(IF(D10="","",YTD_Actual),"")} -> 1095 | Q10: {=IFERROR(IF(D10="","",YTD_Target),"")} -> 149.94 | R10: {=Up_Down_Arrorw} -> ▲ | S10: =IFERROR(P10/Q10,"") -> 7.3029212 | T10: {=IFERROR(IF(D10="","",YTD_PY),"")} -> 209.23 | U10: {=Up_Down_Arrorw} -> ▲ | V10: =IFERROR(P10/T10,"") -> 5.2334751
B11: {=KPI_Details} -> 6 | C11: {=KPI_Details} -> Cost Management | D11: {=KPI_Details} -> Budget Variance | E11: {=KPI_Details} -> (%) | F11: =IF('KPI Definition'!G7="","",'KPI Definition'!G7) -> LTB | H11: {=IFERROR(IF(D11="","",MTD_Actual),"")} -> 34 | I11: {=IFERROR(IF(D11="","",MTD_Target),"")} -> 19.62 | J11: {=Up_Down_Arrorw} -> ▲ | K11: =IFERROR(H11/I11,"") -> 1.7329256 | L11: {=IFERROR(IF(D11="","",MTD_PY),"")} -> 31.72 | M11: {=Up_Down_Arrorw} -> ▲ | N11: =IFERROR(H11/L11,"") -> 1.0718789 | P11: {=IFERROR(IF(D11="","",YTD_Actual),"")} -> 657 | Q11: {=IFERROR(IF(D11="","",YTD_Target),"")} -> 46.51 | R11: {=Up_Down_Arrorw} -> ▲ | S11: =IFERROR(P11/Q11,"") -> 14.125994 | T11: {=IFERROR(IF(D11="","",YTD_PY),"")} -> 278.52 | U11: {=Up_Down_Arrorw} -> ▲ | V11: =IFERROR(P11/T11,"") -> 2.358897
B12: {=KPI_Details} -> 7 | C12: {=KPI_Details} -> Resource Utilization | D12: {=KPI_Details} -> Resource Utilization Rate | E12: {=KPI_Details} -> (%) | F12: =IF('KPI Definition'!G8="","",'KPI Definition'!G8) -> UTB | H12: {=IFERROR(IF(D12="","",MTD_Actual),"")} -> 397 | I12: {=IFERROR(IF(D12="","",MTD_Target),"")} -> 364.44 | J12: {=Up_Down_Arrorw} -> ▲ | K12: =IFERROR(H12/I12,"") -> 1.0893426 | L12: {=IFERROR(IF(D12="","",MTD_PY),"")} -> 290.36 | M12: {=Up_Down_Arrorw} -> ▲ | N12: =IFERROR(H12/L12,"") -> 1.3672682 | P12: {=IFERROR(IF(D12="","",YTD_Actual),"")} -> 1503 | Q12: {=IFERROR(IF(D12="","",YTD_Target),"")} -> 623.16 | R12: {=Up_Down_Arrorw} -> ▲ | S12: =IFERROR(P12/Q12,"") -> 2.4119006 | T12: {=IFERROR(IF(D12="","",YTD_PY),"")} -> 1492.75 | U12: {=Up_Down_Arrorw} -> ▲ | V12: =IFERROR(P12/T12,"") -> 1.0068665
B13: {=KPI_Details} -> 8 | C13: {=KPI_Details} -> Resource Utilization | D13: {=KPI_Details} -> Billable Hours Percentage | E13: {=KPI_Details} -> (%) | F13: =IF('KPI Definition'!G9="","",'KPI Definition'!G9) -> UTB | H13: {=IFERROR(IF(D13="","",MTD_Actual),"")} -> 220 | I13: {=IFERROR(IF(D13="","",MTD_Target),"")} -> 242.44 | J13: {=Up_Down_Arrorw} -> ▼ | K13: =IFERROR(H13/I13,"") -> 0.90744102 | L13: {=IFERROR(IF(D13="","",MTD_PY),"")} -> 108.3 | M13: {=Up_Down_Arrorw} -> ▲ | N13: =IFERROR(H13/L13,"") -> 2.0313943 | P13: {=IFERROR(IF(D13="","",YTD_Actual),"")} -> 1050 | Q13: {=IFERROR(IF(D13="","",YTD_Target),"")} -> 1164.31 | R13: {=Up_Down_Arrorw} -> ▼ | S13: =IFERROR(P13/Q13,"") -> 0.90182168 | T13: {=IFERROR(IF(D13="","",YTD_PY),"")} -> 828.85 | U13: {=Up_Down_Arrorw} -> ▲ | V13: =IFERROR(P13/T13,"") -> 1.2668155
B14: {=KPI_Details} -> 9 | C14: {=KPI_Details} -> Design Efficiency | D14: {=KPI_Details} -> Design Approval Rate | E14: {=KPI_Details} -> (%) | F14: =IF('KPI Definition'!G10="","",'KPI Definition'!G10) -> UTB | H14: {=IFERROR(IF(D14="","",MTD_Actual),"")} -> 32 | I14: {=IFERROR(IF(D14="","",MTD_Target),"")} -> 22.87 | J14: {=Up_Down_Arrorw} -> ▲ | K14: =IFERROR(H14/I14,"") -> 1.3992129 | L14: {=IFERROR(IF(D14="","",MTD_PY),"")} -> 21.4 | M14: {=Up_Down_Arrorw} -> ▲ | N14: =IFERROR(H14/L14,"") -> 1.4953271 | P14: {=IFERROR(IF(D14="","",YTD_Actual),"")} -> 854 | Q14: {=IFERROR(IF(D14="","",YTD_Target),"")} -> 278.83 | R14: {=Up_Down_Arrorw} -> ▲ | S14: =IFERROR(P14/Q14,"") -> 3.0627981 | T14: {=IFERROR(IF(D14="","",YTD_PY),"")} -> 713.38 | U14: {=Up_Down_Arrorw} -> ▲ | V14: =IFERROR(P14/T14,"") -> 1.1971179
B15: {=KPI_Details} -> 10 | C15: {=KPI_Details} -> Design Efficiency | D15: {=KPI_Details} -> Average Revisions per Project | E15: {=KPI_Details} -> Count | F15: =IF('KPI Definition'!G11="","",'KPI Definition'!G11) -> LTB | H15: {=IFERROR(IF(D15="","",MTD_Actual),"")} -> 415 | I15: {=IFERROR(IF(D15="","",MTD_Target),"")} -> 360.55 | J15: {=Up_Down_Arrorw} -> ▲ | K15: =IFERROR(H15/I15,"") -> 1.1510193 | L15: {=IFERROR(IF(D15="","",MTD_PY),"")} -> 275.62 | M15: {=Up_Down_Arrorw} -> ▲ | N15: =IFERROR(H15/L15,"") -> 1.5056962 | P15: {=IFERROR(IF(D15="","",YTD_Actual),"")} -> 1765 | Q15: {=IFERROR(IF(D15="","",YTD_Target),"")} -> 120.6 | R15: {=Up_Down_Arrorw} -> ▲ | S15: =IFERROR(P15/Q15,"") -> 14.635158 | T15: {=IFERROR(IF(D15="","",YTD_PY),"")} -> 66.36 | U15: {=Up_Down_Arrorw} -> ▲ | V15: =IFERROR(P15/T15,"") -> 26.597348
B16: {=KPI_Details} -> 11 | C16: {=KPI_Details} -> Revenue | D16: {=KPI_Details} -> Revenue per Designer | E16: {=KPI_Details} -> Currency | F16: =IF('KPI Definition'!G12="","",'KPI Definition'!G12) -> UTB | H16: {=IFERROR(IF(D16="","",MTD_Actual),"")} -> 80 | I16: {=IFERROR(IF(D16="","",MTD_Target),"")} -> 97.34 | J16: {=Up_Down_Arrorw} -> ▼ | K16: =IFERROR(H16/I16,"") -> 0.82186152 | L16: {=IFERROR(IF(D16="","",MTD_PY),"")} -> 97.75 | M16: {=Up_Down_Arrorw} -> ▼ | N16: =IFERROR(H16/L16,"") -> 0.81841432 | P16: {=IFERROR(IF(D16="","",YTD_Actual),"")} -> 679 | Q16: {=IFERROR(IF(D16="","",YTD_Target),"")} -> 476.96 | R16: {=Up_Down_Arrorw} -> ▲ | S16: =IFERROR(P16/Q16,"") -> 1.4235995 | T16: {=IFERROR(IF(D16="","",YTD_PY),"")} -> 835.59 | U16: {=Up_Down_Arrorw} -> ▼ | V16: =IFERROR(P16/T16,"") -> 0.81259948
B17: {=KPI_Details} -> 12 | C17: {=KPI_Details} -> Revenue | D17: {=KPI_Details} -> Monthly Recurring Revenue (MRR) | E17: {=KPI_Details} -> Currency | F17: =IF('KPI Definition'!G13="","",'KPI Definition'!G13) -> UTB | H17: {=IFERROR(IF(D17="","",MTD_Actual),"")} -> 495 | I17: {=IFERROR(IF(D17="","",MTD_Target),"")} -> 51.2 | J17: {=Up_Down_Arrorw} -> ▲ | K17: =IFERROR(H17/I17,"") -> 9.6679688 | L17: {=IFERROR(IF(D17="","",MTD_PY),"")} -> 615.94 | M17: {=Up_Down_Arrorw} -> ▼ | N17: =IFERROR(H17/L17,"") -> 0.80364971 | P17: {=IFERROR(IF(D17="","",YTD_Actual),"")} -> 1174 | Q17: {=IFERROR(IF(D17="","",YTD_Target),"")} -> 193.84 | R17: {=Up_Down_Arrorw} -> ▲ | S17: =IFERROR(P17/Q17,"") -> 6.0565415 | T17: {=IFERROR(IF(D17="","",YTD_PY),"")} -> 1166.68 | U17: {=Up_Down_Arrorw} -> ▲ | V17: =IFERROR(P17/T17,"") -> 1.0062742
... B35: {=KPI_Details} | C35: {=KPI_Details} | D35: {=KPI_Details} | E35: {=KPI_Details} | F35: =IF('KPI Definition'!G31="","",'KPI Definition'!G31) | H35: {=IFERROR(IF(D35="","",MTD_Actual),"")} | I35: {=IFERROR(IF(D35="","",MTD_Target),"")} | J35: {=Up_Down_Arrorw} | K35: =IFERROR(H35/I35,"") | L35: {=IFERROR(IF(D35="","",MTD_PY),"")} | M35: {=Up_Down_Arrorw} | N35: =IFERROR(H35/L35,"") | P35: {=IFERROR(IF(D35="","",YTD_Actual),"")} | Q35: {=IFERROR(IF(D35="","",YTD_Target),"")} | R35: {=Up_Down_Arrorw} | S35: =IFERROR(P35/Q35,"") | T35: {=IFERROR(IF(D35="","",YTD_PY),"")} | U35: {=Up_Down_Arrorw} | V35: =IFERROR(P35/T35,"")

Sheet Trends
A1: KPI Trend
B3: Select KPI | C3: Client Satisfaction Score | J3: KPI Group | K3: =IFERROR(INDEX('KPI Definition'!$B:$B,MATCH(C3,'KPI Definition'!$C:$C,0)),"") -> Client Satisfaction | P3: Unit | Q3: =IFERROR(VLOOKUP($C$3,'KPI Definition'!$C:$G,MATCH(P3,'KPI Definition'!$C$1:$G$1,0),0),"") -> Score | T3: Type | U3: =IFERROR(VLOOKUP($C$3,'KPI Definition'!$C:$G,MATCH(T3,'KPI Definition'!$C$1:$G$1,0),0),"") -> UTB
B5: Formula | C5: =IFERROR(VLOOKUP($C$3,'KPI Definition'!$C:$G,MATCH(B5,'KPI Definition'!$C$1:$G$1,0),0),"") -> Average client satisfaction rating collected through surveys | J5: Definition | K5: =IFERROR(VLOOKUP($C$3,'KPI Definition'!$C:$G,MATCH(J5,'KPI Definition'!$C$1:$G$1,0),0),"") -> Measures the level of client satisfaction with completed projects.

Sheet KPI Input_ Actual
E1: 45292 | G1: =EDATE(E1,1) -> 45323 | I1: =EDATE(G1,1) -> 45352 | K1: =EDATE(I1,1) -> 45383 | M1: =EDATE(K1,1) -> 45413 | O1: =EDATE(M1,1) -> 45444 | Q1: =EDATE(O1,1) -> 45474 | S1: =EDATE(Q1,1) -> 45505 | U1: =EDATE(S1,1) -> 45536 | W1: =EDATE(U1,1) -> 45566 | Y1: =EDATE(W1,1) -> 45597 | AA1: =EDATE(Y1,1) -> 45627
A2: KPI Number | B2: KPI Group | C2: KPI Name | D2: Unit | E2: MTD | F2: YTD | G2: MTD | H2: YTD | I2: MTD | J2: YTD | K2: MTD | L2: YTD | M2: MTD | N2: YTD | O2: MTD | P2: YTD | Q2: MTD | R2: YTD | S2: MTD | T2: YTD | U2: MTD | V2: YTD | W2: MTD | X2: YTD | Y2: MTD | Z2: YTD | AA2: MTD | AB2: YTD
A3: =IF('KPI Definition'!A2 = "","",'KPI Definition'!A2) -> 1 | B3: =IF('KPI Definition'!B2 = "","",'KPI Definition'!B2) -> Project Performance | C3: =IF('KPI Definition'!C2 = "","",'KPI Definition'!C2) -> Number of Projects Completed | D3: =IF('KPI Definition'!D2 = "","",'KPI Definition'!D2) -> Count | E3: 419 | F3: 419 | G3: 332 | H3: 751 | I3: 323 | J3: 1074 | K3: 156 | L3: 1230 | M3: 431 | N3: 1661 | O3: 390 | P3: 2051 | Q3: 241 | R3: 2292 | S3: 480 | T3: 2772 | U3: 431 | V3: 3203 | W3: 293 | X3: 3496 | Y3: 146 | Z3: 3642 | AA3: 420 | AB3: 4062
A4: =IF('KPI Definition'!A3 = "","",'KPI Definition'!A3) -> 2 | B4: =IF('KPI Definition'!B3 = "","",'KPI Definition'!B3) -> Project Performance | C4: =IF('KPI Definition'!C3 = "","",'KPI Definition'!C3) -> On-Time Project Completion Rate | D4: =IF('KPI Definition'!D3 = "","",'KPI Definition'!D3) -> (%) | E4: 415 | F4: 415 | G4: 335 | H4: 750 | I4: 20 | J4: 770 | K4: 33 | L4: 803 | M4: 70 | N4: 873 | O4: 203 | P4: 1076 | Q4: 33 | R4: 1109 | S4: 285 | T4: 1394 | U4: 372 | V4: 1766 | W4: 405 | X4: 2171 | Y4: 199 | Z4: 2370 | AA4: 234 | AB4: 2604
A5: =IF('KPI Definition'!A4 = "","",'KPI Definition'!A4) -> 3 | B5: =IF('KPI Definition'!B4 = "","",'KPI Definition'!B4) -> Client Satisfaction | C5: =IF('KPI Definition'!C4 = "","",'KPI Definition'!C4) -> Client Satisfaction Score | D5: =IF('KPI Definition'!D4 = "","",'KPI Definition'!D4) -> Score | E5: 331 | F5: 331 | G5: 348 | H5: 679 | I5: 50 | J5: 729 | K5: 231 | L5: 960 | M5: 496 | N5: 1456 | O5: 42 | P5: 1498 | Q5: 272 | R5: 1770 | S5: 285 | T5: 2055 | U5: 331 | V5: 2386 | W5: 164 | X5: 2550 | Y5: 497 | Z5: 3047 | AA5: 248 | AB5: 3295
A6: =IF('KPI Definition'!A5 = "","",'KPI Definition'!A5) -> 4 | B6: =IF('KPI Definition'!B5 = "","",'KPI Definition'!B5) -> Client Satisfaction | C6: =IF('KPI Definition'!C5 = "","",'KPI Definition'!C5) -> Net Promoter Score (NPS) | D6: =IF('KPI Definition'!D5 = "","",'KPI Definition'!D5) -> Score | E6: 192 | F6: 192 | G6: 177 | H6: 369 | I6: 221 | J6: 590 | K6: 478 | L6: 1068 | M6: 128 | N6: 1196 | O6: 424 | P6: 1620 | Q6: 15 | R6: 1635 | S6: 307 | T6: 1942 | U6: 320 | V6: 2262 | W6: 84 | X6: 2346 | Y6: 39 | Z6: 2385 | AA6: 241 | AB6: 2626
A7: =IF('KPI Definition'!A6 = "","",'KPI Definition'!A6) -> 5 | B7: =IF('KPI Definition'!B6 = "","",'KPI Definition'!B6) -> Cost Management | C7: =IF('KPI Definition'!C6 = "","",'KPI Definition'!C6) -> Average Cost per Project | D7: =IF('KPI Definition'!D6 = "","",'KPI Definition'!D6) -> Currency | E7: 311 | F7: 311 | G7: 255 | H7: 566 | I7: 166 | J7: 732 | K7: 291 | L7: 1023 | M7: 72 | N7: 1095 | O7: 89 | P7: 1184 | Q7: 303 | R7: 1487 | S7: 138 | T7: 1625 | U7: 51 | V7: 1676 | W7: 452 | X7: 2128 | Y7: 107 | Z7: 2235 | AA7: 82 | AB7: 2317
A8: =IF('KPI Definition'!A7 = "","",'KPI Definition'!A7) -> 6 | B8: =IF('KPI Definition'!B7 = "","",'KPI Definition'!B7) -> Cost Management | C8: =IF('KPI Definition'!C7 = "","",'KPI Definition'!C7) -> Budget Variance | D8: =IF('KPI Definition'!D7 = "","",'KPI Definition'!D7) -> (%) | E8: 114 | F8: 114 | G8: 335 | H8: 449 | I8: 62 | J8: 511 | K8: 112 | L8: 623 | M8: 34 | N8: 657 | O8: 179 | P8: 836 | Q8: 41 | R8: 877 | S8: 367 | T8: 1244 | U8: 188 | V8: 1432 | W8: 337 | X8: 1769 | Y8: 59 | Z8: 1828 | AA8: 34 | AB8: 1862
A9: =IF('KPI Definition'!A8 = "","",'KPI Definition'!A8) -> 7 | B9: =IF('KPI Definition'!B8 = "","",'KPI Definition'!B8) -> Resource Utilization | C9: =IF('KPI Definition'!C8 = "","",'KPI Definition'!C8) -> Resource Utilization Rate | D9: =IF('KPI Definition'!D8 = "","",'KPI Definition'!D8) -> (%) | E9: 307 | F9: 307 | G9: 196 | H9: 503 | I9: 167 | J9: 670 | K9: 436 | L9: 1106 | M9: 397 | N9: 1503 | O9: 322 | P9: 1825 | Q9: 434 | R9: 2259 | S9: 476 | T9: 2735 | U9: 430 | V9: 3165 | W9: 301 | X9: 3466 | Y9: 345 | Z9: 3811 | AA9: 334 | AB9: 4145
A10: =IF('KPI Definition'!A9 = "","",'KPI Definition'!A9) -> 8 | B10: =IF('KPI Definition'!B9 = "","",'KPI Definition'!B9) -> Resource Utilization | C10: =IF('KPI Definition'!C9 = "","",'KPI Definition'!C9) -> Billable Hours Percentage | D10: =IF('KPI Definition'!D9 = "","",'KPI Definition'!D9) -> (%) | E10: 163 | F10: 163 | G10: 221 | H10: 384 | I10: 105 | J10: 489 | K10: 341 | L10: 830 | M10: 220 | N10: 1050 | O10: 115 | P10: 1165 | Q10: 472 | R10: 1637 | S10: 328 | T10: 1965 | U10: 266 | V10: 2231 | W10: 240 | X10: 2471 | Y10: 19 | Z10: 2490 | AA10: 447 | AB10: 2937
A11: =IF('KPI Definition'!A10 = "","",'KPI Definition'!A10) -> 9 | B11: =IF('KPI Definition'!B10 = "","",'KPI Definition'!B10) -> Design Efficiency | C11: =IF('KPI Definition'!C10 = "","",'KPI Definition'!C10) -> Design Approval Rate | D11: =IF('KPI Definition'!D10 = "","",'KPI Definition'!D10) -> (%) | E11: 219 | F11: 219 | G11: 330 | H11: 549 | I11: 118 | J11: 667 | K11: 155 | L11: 822 | M11: 32 | N11: 854 | O11: 230 | P11: 1084 | Q11: 438 | R11: 1522 | S11: 73 | T11: 1595 | U11: 145 | V11: 1740 | W11: 177 | X11: 1917 | Y11: 42 | Z11: 1959 | AA11: 348 | AB11: 2307
A12: =IF('KPI Definition'!A11 = "","",'KPI Definition'!A11) -> 10 | B12: =IF('KPI Definition'!B11 = "","",'KPI Definition'!B11) -> Design Efficiency | C12: =IF('KPI Definition'!C11 = "","",'KPI Definition'!C11) -> Average Revisions per Project | D12: =IF('KPI Definition'!D11 = "","",'KPI Definition'!D11) -> Count | E12: 224 | F12: 224 | G12: 223 | H12: 447 | I12: 432 | J12: 879 | K12: 471 | L12: 1350 | M12: 415 | N12: 1765 | O12: 16 | P12: 1781 | Q12: 22 | R12: 1803 | S12: 420 | T12: 2223 | U12: 54 | V12: 2277 | W12: 446 | X12: 2723 | Y12: 491 | Z12: 3214 | AA12: 495 | AB12: 3709
A13: =IF('KPI Definition'!A12 = "","",'KPI Definition'!A12) -> 11 | B13: =IF('KPI Definition'!B12 = "","",'KPI Definition'!B12) -> Revenue | C13: =IF('KPI Definition'!C12 = "","",'KPI Definition'!C12) -> Revenue per Designer | D13: =IF('KPI Definition'!D12 = "","",'KPI Definition'!D12) -> Currency | E13: 64 | F13: 64 | G13: 335 | H13: 399 | I13: 176 | J13: 575 | K13: 24 | L13: 599 | M13: 80 | N13: 679 | O13: 55 | P13: 734 | Q13: 278 | R13: 1012 | S13: 217 | T13: 1229 | U13: 216 | V13: 1445 | W13: 16 | X13: 1461 | Y13: 403 | Z13: 1864 | AA13: 404 | AB13: 2268
A14: =IF('KPI Definition'!A13 = "","",'KPI Definition'!A13) -> 12 | B14: =IF('KPI Definition'!B13 = "","",'KPI Definition'!B13) -> Revenue | C14: =IF('KPI Definition'!C13 = "","",'KPI Definition'!C13) -> Monthly Recurring Revenue (MRR) | D14: =IF('KPI Definition'!D13 = "","",'KPI Definition'!D13) -> Currency | E14: 257 | F14: 257 | G14: 27 | H14: 284 | I14: 17 | J14: 301 | K14: 378 | L14: 679 | M14: 495 | N14: 1174 | O14: 345 | P14: 1519 | Q14: 62 | R14: 1581 | S14: 164 | T14: 1745 | U14: 391 | V14: 2136 | W14: 403 | X14: 2539 | Y14: 449 | Z14: 2988 | AA14: 150 | AB14: 3138
... A17: =IF('KPI Definition'!A16 = "","",'KPI Definition'!A16) -> 15 | B17: =IF('KPI Definition'!B16 = "","",'KPI Definition'!B16) -> Marketing Performance | C17: =IF('KPI Definition'!C16 = "","",'KPI Definition'!C16) -> Social Media Engagement Rate | D17: =IF('KPI Definition'!D16 = "","",'KPI Definition'!D16) -> (%) | E17: 456 | F17: 456 | G17: 151 | H17: 607 | I17: 111 | J17: 718 | K17: 408 | L17: 1126 | M17: 277 | N17: 1403 | O17: 288 | P17: 1691 | Q17: 29 | R17: 1720 | S17: 404 | T17: 2124 | U17: 451 | V17: 2575 | W17: 494 | X17: 3069 | Y17: 151 | Z17: 3220 | AA17: 159 | AB17: 3379
A18: =IF('KPI Definition'!A17 = "","",'KPI Definition'!A17) | B18: =IF('KPI Definition'!B17 = "","",'KPI Definition'!B17) | C18: =IF('KPI Definition'!C17 = "","",'KPI Definition'!C17) | D18: =IF('KPI Definition'!D17 = "","",'KPI Definition'!D17)
A19: =IF('KPI Definition'!A18 = "","",'KPI Definition'!A18) | B19: =IF('KPI Definition'!B18 = "","",'KPI Definition'!B18) | C19: =IF('KPI Definition'!C18 = "","",'KPI Definition'!C18) | D19: =IF('KPI Definition'!D18 = "","",'KPI Definition'!D18)
A20: =IF('KPI Definition'!A19 = "","",'KPI Definition'!A19) | B20: =IF('KPI Definition'!B19 = "","",'KPI Definition'!B19) | C20: =IF('KPI Definition'!C19 = "","",'KPI Definition'!C19) | D20: =IF('KPI Definition'!D19 = "","",'KPI Definition'!D19)
A21: =IF('KPI Definition'!A20 = "","",'KPI Definition'!A20) | B21: =IF('KPI Definition'!B20 = "","",'KPI Definition'!B20) | C21: =IF('KPI Definition'!C20 = "","",'KPI Definition'!C20) | D21: =IF('KPI Definition'!D20 = "","",'KPI Definition'!D20)
A22: =IF('KPI Definition'!A21 = "","",'KPI Definition'!A21) | B22: =IF('KPI Definition'!B21 = "","",'KPI Definition'!B21) | C22: =IF('KPI Definition'!C21 = "","",'KPI Definition'!C21) | D22: =IF('KPI Definition'!D21 = "","",'KPI Definition'!D21)
A23: =IF('KPI Definition'!A22 = "","",'KPI Definition'!A22) | B23: =IF('KPI Definition'!B22 = "","",'KPI Definition'!B22) | C23: =IF('KPI Definition'!C22 = "","",'KPI Definition'!C22) | D23: =IF('KPI Definition'!D22 = "","",'KPI Definition'!D22)
A24: =IF('KPI Definition'!A23 = "","",'KPI Definition'!A23) | B24: =IF('KPI Definition'!B23 = "","",'KPI Definition'!B23) | C24: =IF('KPI Definition'!C23 = "","",'KPI Definition'!C23) | D24: =IF('KPI Definition'!D23 = "","",'KPI Definition'!D23)
A25: =IF('KPI Definition'!A24 = "","",'KPI Definition'!A24) | B25: =IF('KPI Definition'!B24 = "","",'KPI Definition'!B24) | C25: =IF('KPI Definition'!C24 = "","",'KPI Definition'!C24) | D25: =IF('KPI Definition'!D24 = "","",'KPI Definition'!D24)
A26: =IF('KPI Definition'!A25 = "","",'KPI Definition'!A25) | B26: =IF('KPI Definition'!B25 = "","",'KPI Definition'!B25) | C26: =IF('KPI Definition'!C25 = "","",'KPI Definition'!C25) | D26: =IF('KPI Definition'!D25 = "","",'KPI Definition'!D25)
A27: =IF('KPI Definition'!A26 = "","",'KPI Definition'!A26) | B27: =IF('KPI Definition'!B26 = "","",'KPI Definition'!B26) | C27: =IF('KPI Definition'!C26 = "","",'KPI Definition'!C26) | D27: =IF('KPI Definition'!D26 = "","",'KPI Definition'!D26)
A28: =IF('KPI Definition'!A27 = "","",'KPI Definition'!A27) | B28: =IF('KPI Definition'!B27 = "","",'KPI Definition'!B27) | C28: =IF('KPI Definition'!C27 = "","",'KPI Definition'!C27) | D28: =IF('KPI Definition'!D27 = "","",'KPI Definition'!D27)
A29: =IF('KPI Definition'!A28 = "","",'KPI Definition'!A28) | B29: =IF('KPI Definition'!B28 = "","",'KPI Definition'!B28) | C29: =IF('KPI Definition'!C28 = "","",'KPI Definition'!C28) | D29: =IF('KPI Definition'!D28 = "","",'KPI Definition'!D28)
... A31: =IF('KPI Definition'!A30 = "","",'KPI Definition'!A30) | B31: =IF('KPI Definition'!B30 = "","",'KPI Definition'!B30) | C31: =IF('KPI Definition'!C30 = "","",'KPI Definition'!C30) | D31: =IF('KPI Definition'!D30 = "","",'KPI Definition'!D30)

Sheet KPI Input - Target
E1: ='KPI Input_ Actual'!E1 -> 45292 | G1: =EDATE(E1,1) -> 45323 | I1: =EDATE(G1,1) -> 45352 | K1: =EDATE(I1,1) -> 45383 | M1: =EDATE(K1,1) -> 45413 | O1: =EDATE(M1,1) -> 45444 | Q1: =EDATE(O1,1) -> 45474 | S1: =EDATE(Q1,1) -> 45505 | U1: =EDATE(S1,1) -> 45536 | W1: =EDATE(U1,1) -> 45566 | Y1: =EDATE(W1,1) -> 45597 | AA1: =EDATE(Y1,1) -> 45627
A2: KPI Number | B2: KPI Group | C2: KPI Name | D2: Unit | E2: MTD | F2: YTD | G2: MTD | H2: YTD | I2: MTD | J2: YTD | K2: MTD | L2: YTD | M2: MTD | N2: YTD | O2: MTD | P2: YTD | Q2: MTD | R2: YTD | S2: MTD | T2: YTD | U2: MTD | V2: YTD | W2: MTD | X2: YTD | Y2: MTD | Z2: YTD | AA2: MTD | AB2: YTD
A3: =IF('KPI Definition'!A2 = "","",'KPI Definition'!A2) -> 1 | B3: =IF('KPI Definition'!B2 = "","",'KPI Definition'!B2) -> Project Performance | C3: =IF('KPI Definition'!C2 = "","",'KPI Definition'!C2) -> Number of Projects Completed | D3: =IF('KPI Definition'!D2 = "","",'KPI Definition'!D2) -> Count | E3: 107.72 | F3: 57.11 | G3: 151.52 | H3: 384.58 | I3: 401.44 | J3: 806.12 | K3: 163.28 | L3: 340.22 | M3: 227.85 | N3: 70.6 | O3: 350.35 | P3: 2112.22 | Q3: 191.52 | R3: 2345.93 | S3: 72.56 | T3: 2254.74 | U3: 356.68 | V3: 3039.73 | W3: 104.44 | X3: 1600.78 | Y3: 176.97 | Z3: 1690.19 | AA3: 58.19 | AB3: 4787.03
A4: =IF('KPI Definition'!A3 = "","",'KPI Definition'!A3) -> 2 | B4: =IF('KPI Definition'!B3 = "","",'KPI Definition'!B3) -> Project Performance | C4: =IF('KPI Definition'!C3 = "","",'KPI Definition'!C3) -> On-Time Project Completion Rate | D4: =IF('KPI Definition'!D3 = "","",'KPI Definition'!D3) -> (%) | E4: 191.32 | F4: 174.63 | G4: 328.83 | H4: 242.78 | I4: 12.12 | J4: 445.92 | K4: 3.54 | L4: 205.73 | M4: 75.3 | N4: 888.2 | O4: 20.23 | P4: 1023.42 | Q4: 13.48 | R4: 844.42 | S4: 276.11 | T4: 775.57 | U4: 283.62 | V4: 1559.13 | W4: 85.92 | X4: 68.36 | Y4: 44.3 | Z4: 539.99 | AA4: 42.34 | AB4: 1608.41
A5: =IF('KPI Definition'!A4 = "","",'KPI Definition'!A4) -> 3 | B5: =IF('KPI Definition'!B4 = "","",'KPI Definition'!B4) -> Client Satisfaction | C5: =IF('KPI Definition'!C4 = "","",'KPI Definition'!C4) -> Client Satisfaction Score | D5: =IF('KPI Definition'!D4 = "","",'KPI Definition'!D4) -> Score | E5: 342.82 | F5: 226.25 | G5: 241.88 | H5: 243.77 | I5: 16.96 | J5: 862.99 | K5: 83.37 | L5: 422.38 | M5: 14.12 | N5: 966.58 | O5: 50.45 | P5: 1159.6 | Q5: 54.01 | R5: 1673.65 | S5: 105.49 | T5: 45.6 | U5: 107.75 | V5: 699.93 | W5: 96.91 | X5: 2221.82 | Y5: 489.92 | Z5: 2914.33 | AA5: 268.22 | AB5: 1935.03
A6: =IF('KPI Definition'!A5 = "","",'KPI Definition'!A5) -> 4 | B6: =IF('KPI Definition'!B5 = "","",'KPI Definition'!B5) -> Client Satisfaction | C6: =IF('KPI Definition'!C5 = "","",'KPI Definition'!C5) -> Net Promoter Score (NPS) | D6: =IF('KPI Definition'!D5 = "","",'KPI Definition'!D5) -> Score | E6: 137.76 | F6: 155.54 | G6: 47.52 | H6: 116.86 | I6: 202.42 | J6: 226.09 | K6: 448.18 | L6: 492.42 | M6: 116.12 | N6: 1271 | O6: 217.99 | P6: 1437.43 | Q6: 3.14 | R6: 1129.13 | S6: 355.72 | T6: 620.59 | U6: 370.46 | V6: 772.47 | W6: 66.47 | X6: 1369.22 | Y6: 40.57 | Z6: 510.18 | AA6: 43.66 | AB6: 189.12
A7: =IF('KPI Definition'!A6 = "","",'KPI Definition'!A6) -> 5 | B7: =IF('KPI Definition'!B6 = "","",'KPI Definition'!B6) -> Cost Management | C7: =IF('KPI Definition'!C6 = "","",'KPI Definition'!C6) -> Average Cost per Project | D7: =IF('KPI Definition'!D6 = "","",'KPI Definition'!D6) -> Currency | E7: 309.84 | F7: 136.69 | G7: 215.83 | H7: 51.37 | I7: 114.29 | J7: 691.54 | K7: 137.43 | L7: 435.05 | M7: 35.5 | N7: 149.94 | O7: 7.29 | P7: 445.19 | Q7: 99.66 | R7: 1225.16 | S7: 13.16 | T7: 1618.21 | U7: 42.83 | V7: 1217.55 | W7: 31.68 | X7: 921.11 | Y7: 72.86 | Z7: 229.35 | AA7: 11.72 | AB7: 1450.53
A8: =IF('KPI Definition'!A7 = "","",'KPI Definition'!A7) -> 6 | B8: =IF('KPI Definition'!B7 = "","",'KPI Definition'!B7) -> Cost Management | C8: =IF('KPI Definition'!C7 = "","",'KPI Definition'!C7) -> Budget Variance | D8: =IF('KPI Definition'!D7 = "","",'KPI Definition'!D7) -> (%) | E8: 37.92 | F8: 15.47 | G8: 257.65 | H8: 28.19 | I8: 9 | J8: 500.63 | K8: 6.38 | L8: 708.56 | M8: 19.62 | N8: 46.51 | O8: 149.45 | P8: 325.7 | Q8: 27.09 | R8: 407.01 | S8: 365.32 | T8: 106.49 | U8: 81.76 | V8: 186.64 | W8: 408.69 | X8: 1328.41 | Y8: 15.32 | Z8: 1769.24 | AA8: 41.05 | AB8: 1421.53
A9: =IF('KPI Definition'!A8 = "","",'KPI Definition'!A8) -> 7 | B9: =IF('KPI Definition'!B8 = "","",'KPI Definition'!B8) -> Resource Utilization | C9: =IF('KPI Definition'!C8 = "","",'KPI Definition'!C8) -> Resource Utilization Rate | D9: =IF('KPI Definition'!D8 = "","",'KPI Definition'!D8) -> (%) | E9: 10.28 | F9: 35.31 | G9: 192.96 | H9: 625.97 | I9: 56.21 | J9: 520.23 | K9: 99.83 | L9: 288.56 | M9: 364.44 | N9: 623.16 | O9: 337.19 | P9: 1437.51 | Q9: 40.38 | R9: 2074.42 | S9: 10.98 | T9: 1898.5 | U9: 535.63 | V9: 1732.28 | W9: 277.03 | X9: 4003.75 | Y9: 355.2 | Z9: 1034.18 | AA9: 98.66 | AB9: 1662.38
A10: =IF('KPI Definition'!A9 = "","",'KPI Definition'!A9) -> 8 | B10: =IF('KPI Definition'!B9 = "","",'KPI Definition'!B9) -> Resource Utilization | C10: =IF('KPI Definition'!C9 = "","",'KPI Definition'!C9) -> Billable Hours Percentage | D10: =IF('KPI Definition'!D9 = "","",'KPI Definition'!D9) -> (%) | E10: 193.1 | F10: 156.77 | G10: 161.95 | H10: 33.25 | I10: 83.55 | J10: 506.82 | K10: 357.56 | L10: 353.29 | M10: 242.44 | N10: 1164.31 | O10: 96.28 | P10: 110.96 | Q10: 179.39 | R10: 1350.32 | S10: 303.35 | T10: 929.93 | U10: 9.26 | V10: 2661.64 | W10: 198.27 | X10: 2136.4 | Y10: 22.12 | Z10: 1952.88 | AA10: 438.46 | AB10: 2017.93
A11: =IF('KPI Definition'!A10 = "","",'KPI Definition'!A10) -> 9 | B11: =IF('KPI Definition'!B10 = "","",'KPI Definition'!B10) -> Design Efficiency | C11: =IF('KPI Definition'!C10 = "","",'KPI Definition'!C10) -> Design Approval Rate | D11: =IF('KPI Definition'!D10 = "","",'KPI Definition'!D10) -> (%) | E11: 211.14 | F11: 226.3 | G11: 331.32 | H11: 225.35 | I11: 141.28 | J11: 48.71 | K11: 3.61 | L11: 169.66 | M11: 22.87 | N11: 278.83 | O11: 238.72 | P11: 356.14 | Q11: 243.67 | R11: 1837.55 | S11: 63.66 | T11: 385.91 | U11: 52.54 | V11: 1751.01 | W11: 140.38 | X11: 1212.68 | Y11: 3.1 | Z11: 2147.64 | AA11: 386.3 | AB11: 113.45
A12: =IF('KPI Definition'!A11 = "","",'KPI Definition'!A11) -> 10 | B12: =IF('KPI Definition'!B11 = "","",'KPI Definition'!B11) -> Design Efficiency | C12: =IF('KPI Definition'!C11 = "","",'KPI Definition'!C11) -> Average Revisions per Project | D12: =IF('KPI Definition'!D11 = "","",'KPI Definition'!D11) -> Count | E12: 59.56 | F12: 51.9 | G12: 244.02 | H12: 155.91 | I12: 323.26 | J12: 633.68 | K12: 546.17 | L12: 79.7 | M12: 360.55 | N12: 120.6 | O12: 19.3 | P12: 2186.79 | Q12: 15.32 | R12: 2142.53 | S12: 56.89 | T12: 2477.49 | U12: 36.71 | V12: 2265.51 | W12: 37.87 | X12: 599.38 | Y12: 54.86 | Z12: 1768.1 | AA12: 437.3 | AB12: 3230.36
A13: =IF('KPI Definition'!A12 = "","",'KPI Definition'!A12) -> 11 | B13: =IF('KPI Definition'!B12 = "","",'KPI Definition'!B12) -> Revenue | C13: =IF('KPI Definition'!C12 = "","",'KPI Definition'!C12) -> Revenue per Designer | D13: =IF('KPI Definition'!D12 = "","",'KPI Definition'!D12) -> Currency | E13: 36.51 | F13: 60.34 | G13: 60 | H13: 147.02 | I13: 205.56 | J13: 162.41 | K13: 4.72 | L13: 258.53 | M13: 97.34 | N13: 476.96 | O13: 39.24 | P13: 280.37 | Q13: 285.8 | R13: 920.9 | S13: 177.72 | T13: 1454.4 | U13: 208.38 | V13: 946.82 | W13: 19.17 | X13: 40.85 | Y13: 301.92 | Z13: 2018.1 | AA13: 286.17 | AB13: 2756.27
A14: =IF('KPI Definition'!A13 = "","",'KPI Definition'!A13) -> 12 | B14: =IF('KPI Definition'!B13 = "","",'KPI Definition'!B13) -> Revenue | C14: =IF('KPI Definition'!C13 = "","",'KPI Definition'!C13) -> Monthly Recurring Revenue (MRR) | D14: =IF('KPI Definition'!D13 = "","",'KPI Definition'!D13) -> Currency | E14: 235.04 | F14: 107.96 | G14: 8.91 | H14: 341.7 | I14: 3.49 | J14: 225.13 | K14: 74.73 | L14: 452.59 | M14: 51.2 | N14: 193.84 | O14: 412.18 | P14: 1418.14 | Q14: 3.95 | R14: 1125.32 | S14: 138.34 | T14: 1546.47 | U14: 237.64 | V14: 2273.13 | W14: 467.05 | X14: 2211.28 | Y14: 227.04 | Z14: 2154.1 | AA14: 156.36 | AB14: 232.14
... A17: =IF('KPI Definition'!A16 = "","",'KPI Definition'!A16) -> 15 | B17: =IF('KPI Definition'!B16 = "","",'KPI Definition'!B16) -> Marketing Performance | C17: =IF('KPI Definition'!C16 = "","",'KPI Definition'!C16) -> Social Media Engagement Rate | D17: =IF('KPI Definition'!D16 = "","",'KPI Definition'!D16) -> (%) | E17: 232.09 | F17: 92.05 | G17: 2.13 | H17: 309.81 | I17: 46.53 | J17: 729.87 | K17: 440.36 | L17: 1201.77 | M17: 7.87 | N17: 503.16 | O17: 234.32 | P17: 284.42 | Q17: 19.98 | R17: 1409.77 | S17: 393.1 | T17: 407.66 | U17: 131.99 | V17: 1803.62 | W17: 365.29 | X17: 2713.13 | Y17: 68.08 | Z17: 2565.94 | AA17: 35.19 | AB17: 2088.25
A18: =IF('KPI Definition'!A17 = "","",'KPI Definition'!A17) | B18: =IF('KPI Definition'!B17 = "","",'KPI Definition'!B17) | C18: =IF('KPI Definition'!C17 = "","",'KPI Definition'!C17) | D18: =IF('KPI Definition'!D17 = "","",'KPI Definition'!D17)
A19: =IF('KPI Definition'!A18 = "","",'KPI Definition'!A18) | B19: =IF('KPI Definition'!B18 = "","",'KPI Definition'!B18) | C19: =IF('KPI Definition'!C18 = "","",'KPI Definition'!C18) | D19: =IF('KPI Definition'!D18 = "","",'KPI Definition'!D18)
A20: =IF('KPI Definition'!A19 = "","",'KPI Definition'!A19) | B20: =IF('KPI Definition'!B19 = "","",'KPI Definition'!B19) | C20: =IF('KPI Definition'!C19 = "","",'KPI Definition'!C19) | D20: =IF('KPI Definition'!D19 = "","",'KPI Definition'!D19)
A21: =IF('KPI Definition'!A20 = "","",'KPI Definition'!A20) | B21: =IF('KPI Definition'!B20 = "","",'KPI Definition'!B20) | C21: =IF('KPI Definition'!C20 = "","",'KPI Definition'!C20) | D21: =IF('KPI Definition'!D20 = "","",'KPI Definition'!D20)
A22: =IF('KPI Definition'!A21 = "","",'KPI Definition'!A21) | B22: =IF('KPI Definition'!B21 = "","",'KPI Definition'!B21) | C22: =IF('KPI Definition'!C21 = "","",'KPI Definition'!C21) | D22: =IF('KPI Definition'!D21 = "","",'KPI Definition'!D21)
A23: =IF('KPI Definition'!A22 = "","",'KPI Definition'!A22) | B23: =IF('KPI Definition'!B22 = "","",'KPI Definition'!B22) | C23: =IF('KPI Definition'!C22 = "","",'KPI Definition'!C22) | D23: =IF('KPI Definition'!D22 = "","",'KPI Definition'!D22)
A24: =IF('KPI Definition'!A23 = "","",'KPI Definition'!A23) | B24: =IF('KPI Definition'!B23 = "","",'KPI Definition'!B23) | C24: =IF('KPI Definition'!C23 = "","",'KPI Definition'!C23) | D24: =IF('KPI Definition'!D23 = "","",'KPI Definition'!D23)
A25: =IF('KPI Definition'!A24 = "","",'KPI Definition'!A24) | B25: =IF('KPI Definition'!B24 = "","",'KPI Definition'!B24) | C25: =IF('KPI Definition'!C24 = "","",'KPI Definition'!C24) | D25: =IF('KPI Definition'!D24 = "","",'KPI Definition'!D24)
A26: =IF('KPI Definition'!A25 = "","",'KPI Definition'!A25) | B26: =IF('KPI Definition'!B25 = "","",'KPI Definition'!B25) | C26: =IF('KPI Definition'!C25 = "","",'KPI Definition'!C25) | D26: =IF('KPI Definition'!D25 = "","",'KPI Definition'!D25)
A27: =IF('KPI Definition'!A26 = "","",'KPI Definition'!A26) | B27: =IF('KPI Definition'!B26 = "","",'KPI Definition'!B26) | C27: =IF('KPI Definition'!C26 = "","",'KPI Definition'!C26) | D27: =IF('KPI Definition'!D26 = "","",'KPI Definition'!D26)
A28: =IF('KPI Definition'!A27 = "","",'KPI Definition'!A27) | B28: =IF('KPI Definition'!B27 = "","",'KPI Definition'!B27) | C28: =IF('KPI Definition'!C27 = "","",'KPI Definition'!C27) | D28: =IF('KPI Definition'!D27 = "","",'KPI Definition'!D27)
A29: =IF('KPI Definition'!A28 = "","",'KPI Definition'!A28) | B29: =IF('KPI Definition'!B28 = "","",'KPI Definition'!B28) | C29: =IF('KPI Definition'!C28 = "","",'KPI Definition'!C28) | D29: =IF('KPI Definition'!D28 = "","",'KPI Definition'!D28)
... A31: =IF('KPI Definition'!A30 = "","",'KPI Definition'!A30) | B31: =IF('KPI Definition'!B30 = "","",'KPI Definition'!B30) | C31: =IF('KPI Definition'!C30 = "","",'KPI Definition'!C30) | D31: =IF('KPI Definition'!D30 = "","",'KPI Definition'!D30)

Sheet KPI Input - PY
E1: =EDATE('KPI Input_ Actual'!E1,-12) -> 44927 | G1: =EDATE(E1,1) -> 44958 | I1: =EDATE(G1,1) -> 44986 | K1: =EDATE(I1,1) -> 45017 | M1: =EDATE(K1,1) -> 45047 | O1: =EDATE(M1,1) -> 45078 | Q1: =EDATE(O1,1) -> 45108 | S1: =EDATE(Q1,1) -> 45139 | U1: =EDATE(S1,1) -> 45170 | W1: =EDATE(U1,1) -> 45200 | Y1: =EDATE(W1,1) -> 45231 | AA1: =EDATE(Y1,1) -> 45261
A2: KPI Number | B2: KPI Group | C2: KPI Name | D2: Unit | E2: MTD | F2: YTD | G2: MTD | H2: YTD | I2: MTD | J2: YTD | K2: MTD | L2: YTD | M2: MTD | N2: YTD | O2: MTD | P2: YTD | Q2: MTD | R2: YTD | S2: MTD | T2: YTD | U2: MTD | V2: YTD | W2: MTD | X2: YTD | Y2: MTD | Z2: YTD | AA2: MTD | AB2: YTD
A3: =IF('KPI Definition'!A2 = "","",'KPI Definition'!A2) -> 1 | B3: =IF('KPI Definition'!B2 = "","",'KPI Definition'!B2) -> Project Performance | C3: =IF('KPI Definition'!C2 = "","",'KPI Definition'!C2) -> Number of Projects Completed | D3: =IF('KPI Definition'!D2 = "","",'KPI Definition'!D2) -> Count | E3: 160.59 | F3: 482.51 | G3: 198.67 | H3: 185.47 | I3: 204.03 | J3: 258.18 | K3: 75.49 | L3: 468.07 | M3: 464.93 | N3: 114.21 | O3: 28.49 | P3: 2093.26 | Q3: 229.99 | R3: 13.4 | S3: 156.95 | T3: 2647.83 | U3: 192.31 | V3: 2941.33 | W3: 50.69 | X3: 4025.92 | Y3: 111.6 | Z3: 1884.27 | AA3: 316.24 | AB3: 690.48
A4: =IF('KPI Definition'!A3 = "","",'KPI Definition'!A3) -> 2 | B4: =IF('KPI Definition'!B3 = "","",'KPI Definition'!B3) -> Project Performance | C4: =IF('KPI Definition'!C3 = "","",'KPI Definition'!C3) -> On-Time Project Completion Rate | D4: =IF('KPI Definition'!D3 = "","",'KPI Definition'!D3) -> (%) | E4: 221.57 | F4: 106.1 | G4: 37.1 | H4: 334.67 | I4: 5.12 | J4: 303.32 | K4: 2.12 | L4: 989.73 | M4: 66.97 | N4: 287.34 | O4: 31.88 | P4: 726.69 | Q4: 10.93 | R4: 1369.26 | S4: 161.98 | T4: 472.81 | U4: 5.7 | V4: 798.31 | W4: 408.03 | X4: 149.26 | Y4: 236.35 | Z4: 776.4 | AA4: 95 | AB4: 481.01
A5: =IF('KPI Definition'!A4 = "","",'KPI Definition'!A4) -> 3 | B5: =IF('KPI Definition'!B4 = "","",'KPI Definition'!B4) -> Client Satisfaction | C5: =IF('KPI Definition'!C4 = "","",'KPI Definition'!C4) -> Client Satisfaction Score | D5: =IF('KPI Definition'!D4 = "","",'KPI Definition'!D4) -> Score | E5: 368.68 | F5: 253.35 | G5: 422.13 | H5: 86.44 | I5: 42.02 | J5: 629.67 | K5: 55.27 | L5: 119.8 | M5: 257.13 | N5: 1759.34 | O5: 13.53 | P5: 293.36 | Q5: 187.69 | R5: 647.54 | S5: 63.46 | T5: 2484.88 | U5: 130.99 | V5: 2360.92 | W5: 155.38 | X5: 2226.36 | Y5: 169.84 | Z5: 2529.82 | AA5: 243.95 | AB5: 1777.9
A6: =IF('KPI Definition'!A5 = "","",'KPI Definition'!A5) -> 4 | B6: =IF('KPI Definition'!B5 = "","",'KPI Definition'!B5) -> Client Satisfaction | C6: =IF('KPI Definition'!C5 = "","",'KPI Definition'!C5) -> Net Promoter Score (NPS) | D6: =IF('KPI Definition'!D5 = "","",'KPI Definition'!D5) -> Score | E6: 17.08 | F6: 125.8 | G6: 91.68 | H6: 222.97 | I6: 153.88 | J6: 75.81 | K6: 383.1 | L6: 932.87 | M6: 131.5 | N6: 280.28 | O6: 298.29 | P6: 1643.61 | Q6: 8.78 | R6: 236.31 | S6: 378.47 | T6: 1060.05 | U6: 179.76 | V6: 851.69 | W6: 69.91 | X6: 689.23 | Y6: 29.73 | Z6: 1582.09 | AA6: 152.89 | AB6: 2205.64
A7: =IF('KPI Definition'!A6 = "","",'KPI Definition'!A6) -> 5 | B7: =IF('KPI Definition'!B6 = "","",'KPI Definition'!B6) -> Cost Management | C7: =IF('KPI Definition'!C6 = "","",'KPI Definition'!C6) -> Average Cost per Project | D7: =IF('KPI Definition'!D6 = "","",'KPI Definition'!D6) -> Currency | E7: 368.65 | F7: 250.11 | G7: 225.4 | H7: 367.23 | I7: 100.16 | J7: 200.05 | K7: 15.33 | L7: 829.77 | M7: 26.03 | N7: 209.23 | O7: 93.56 | P7: 549.8 | Q7: 183.13 | R7: 1446.34 | S7: 47.55 | T7: 744.28 | U7: 31.13 | V7: 330.91 | W7: 336.53 | X7: 1719.68 | Y7: 124.87 | Z7: 2790.53 | AA7: 98.66 | AB7: 1698.27
A8: =IF('KPI Definition'!A7 = "","",'KPI Definition'!A7) -> 6 | B8: =IF('KPI Definition'!B7 = "","",'KPI Definition'!B7) -> Cost Management | C8: =IF('KPI Definition'!C7 = "","",'KPI Definition'!C7) -> Budget Variance | D8: =IF('KPI Definition'!D7 = "","",'KPI Definition'!D7) -> (%) | E8: 12.83 | F8: 14.3 | G8: 73.07 | H8: 83.42 | I8: 11.14 | J8: 400.38 | K8: 55.58 | L8: 366.26 | M8: 31.72 | N8: 278.52 | O8: 143.69 | P8: 717.22 | Q8: 27.92 | R8: 613.6 | S8: 385.94 | T8: 185.45 | U8: 100.11 | V8: 1770.22 | W8: 188.09 | X8: 1101.73 | Y8: 7.54 | Z8: 557.11 | AA8: 34.42 | AB8: 645.76
A9: =IF('KPI Definition'!A8 = "","",'KPI Definition'!A8) -> 7 | B9: =IF('KPI Definition'!B8 = "","",'KPI Definition'!B8) -> Resource Utilization | C9: =IF('KPI Definition'!C8 = "","",'KPI Definition'!C8) -> Resource Utilization Rate | D9: =IF('KPI Definition'!D8 = "","",'KPI Definition'!D8) -> (%) | E9: 262.25 | F9: 91.7 | G9: 243.42 | H9: 608.26 | I9: 122.82 | J9: 329.89 | K9: 19.62 | L9: 1273.3 | M9: 290.36 | N9: 1492.75 | O9: 362.36 | P9: 439.3 | Q9: 105.61 | R9: 1727.73 | S9: 482.31 | T9: 3359.63 | U9: 241.89 | V9: 1946.21 | W9: 275.07 | X9: 248.97 | Y9: 159.97 | Z9: 246.47 | AA9: 29.57 | AB9: 1756.23
A10: =IF('KPI Definition'!A9 = "","",'KPI Definition'!A9) -> 8 | B10: =IF('KPI Definition'!B9 = "","",'KPI Definition'!B9) -> Resource Utilization | C10: =IF('KPI Definition'!C9 = "","",'KPI Definition'!C9) -> Billable Hours Percentage | D10: =IF('KPI Definition'!D9 = "","",'KPI Definition'!D9) -> (%) | E10: 115.85 | F10: 152.57 | G10: 79.67 | H10: 372.46 | I10: 104.34 | J10: 412.76 | K10: 330.13 | L10: 823.02 | M10: 108.3 | N10: 828.85 | O10: 79.55 | P10: 365.94 | Q10: 227.68 | R10: 1945.53 | S10: 74.93 | T10: 546.56 | U10: 255.04 | V10: 1602.23 | W10: 152.8 | X10: 1209.07 | Y10: 3.32 | Z10: 2749.27 | AA10: 265.52 | AB10: 1233.05
A11: =IF('KPI Definition'!A10 = "","",'KPI Definition'!A10) -> 9 | B11: =IF('KPI Definition'!B10 = "","",'KPI Definition'!B10) -> Design Efficiency | C11: =IF('KPI Definition'!C10 = "","",'KPI Definition'!C10) -> Design Approval Rate | D11: =IF('KPI Definition'!D10 = "","",'KPI Definition'!D10) -> (%) | E11: 117.43 | F11: 35.13 | G11: 70.24 | H11: 129 | I11: 78.44 | J11: 133.5 | K11: 12.26 | L11: 1025.8 | M11: 21.4 | N11: 713.38 | O11: 179.61 | P11: 1159.79 | Q11: 335.95 | R11: 1462.01 | S11: 34.21 | T11: 1416.94 | U11: 58.75 | V11: 1148.4 | W11: 176.98 | X11: 959.37 | Y11: 16.22 | Z11: 1714.9 | AA11: 192.19 | AB11: 1269.75
A12: =IF('KPI Definition'!A11 = "","",'KPI Definition'!A11) -> 10 | B12: =IF('KPI Definition'!B11 = "","",'KPI Definition'!B11) -> Design Efficiency | C12: =IF('KPI Definition'!C11 = "","",'KPI Definition'!C11) -> Average Revisions per Project | D12: =IF('KPI Definition'!D11 = "","",'KPI Definition'!D11) -> Count | E12: 214.28 | F12: 254.45 | G12: 101.38 | H12: 404.52 | I12: 227.63 | J12: 824.4 | K12: 442.64 | L12: 998.43 | M12: 275.62 | N12: 66.36 | O12: 5.2 | P12: 2089.58 | Q12: 3.03 | R12: 1609.31 | S12: 46.23 | T12: 214.99 | U12: 53.12 | V12: 2333.85 | W12: 98.42 | X12: 908.18 | Y12: 613.67 | Z12: 904.63 | AA12: 101.02 | AB12: 2902.93
A13: =IF('KPI Definition'!A12 = "","",'KPI Definition'!A12) -> 11 | B13: =IF('KPI Definition'!B12 = "","",'KPI Definition'!B12) -> Revenue | C13: =IF('KPI Definition'!C12 = "","",'KPI Definition'!C12) -> Revenue per Designer | D13: =IF('KPI Definition'!D12 = "","",'KPI Definition'!D12) -> Currency | E13: 35.07 | F13: 45.2 | G13: 356.96 | H13: 430.82 | I13: 59.02 | J13: 555.21 | K13: 11.21 | L13: 387.61 | M13: 97.75 | N13: 835.59 | O13: 11.46 | P13: 679.86 | Q13: 209.56 | R13: 68.7 | S13: 261.18 | T13: 295.21 | U13: 232.98 | V13: 331.73 | W13: 2.39 | X13: 1789.01 | Y13: 216.28 | Z13: 103.31 | AA13: 95.86 | AB13: 59.23
A14: =IF('KPI Definition'!A13 = "","",'KPI Definition'!A13) -> 12 | B14: =IF('KPI Definition'!B13 = "","",'KPI Definition'!B13) -> Revenue | C14: =IF('KPI Definition'!C13 = "","",'KPI Definition'!C13) -> Monthly Recurring Revenue (MRR) | D14: =IF('KPI Definition'!D13 = "","",'KPI Definition'!D13) -> Currency | E14: 313.51 | F14: 271.96 | G14: 15.44 | H14: 150.08 | I14: 20.41 | J14: 249.74 | K14: 366.34 | L14: 738.78 | M14: 615.94 | N14: 1166.68 | O14: 96.04 | P14: 678.88 | Q14: 21.09 | R14: 1483.75 | S14: 179.09 | T14: 1305.22 | U14: 443.68 | V14: 2621.4 | W14: 385.57 | X14: 669.06 | Y14: 352.35 | Z14: 3353.39 | AA14: 176.51 | AB14: 3319.2
... A17: =IF('KPI Definition'!A16 = "","",'KPI Definition'!A16) -> 15 | B17: =IF('KPI Definition'!B16 = "","",'KPI Definition'!B16) -> Marketing Performance | C17: =IF('KPI Definition'!C16 = "","",'KPI Definition'!C16) -> Social Media Engagement Rate | D17: =IF('KPI Definition'!D16 = "","",'KPI Definition'!D16) -> (%) | E17: 200.7 | F17: 141.57 | G17: 97.01 | H17: 202.04 | I17: 56.6 | J17: 33.43 | K17: 312.29 | L17: 491.88 | M17: 28.56 | N17: 1167.1 | O17: 276.7 | P17: 443.58 | Q17: 23.5 | R17: 882.77 | S17: 463.06 | T17: 1087.92 | U17: 161.18 | V17: 1616.95 | W17: 338.52 | X17: 2255.39 | Y17: 177.9 | Z17: 1805.01 | AA17: 168.04 | AB17: 2708.05
A18: =IF('KPI Definition'!A17 = "","",'KPI Definition'!A17) | B18: =IF('KPI Definition'!B17 = "","",'KPI Definition'!B17) | C18: =IF('KPI Definition'!C17 = "","",'KPI Definition'!C17) | D18: =IF('KPI Definition'!D17 = "","",'KPI Definition'!D17)
A19: =IF('KPI Definition'!A18 = "","",'KPI Definition'!A18) | B19: =IF('KPI Definition'!B18 = "","",'KPI Definition'!B18) | C19: =IF('KPI Definition'!C18 = "","",'KPI Definition'!C18) | D19: =IF('KPI Definition'!D18 = "","",'KPI Definition'!D18)
A20: =IF('KPI Definition'!A19 = "","",'KPI Definition'!A19) | B20: =IF('KPI Definition'!B19 = "","",'KPI Definition'!B19) | C20: =IF('KPI Definition'!C19 = "","",'KPI Definition'!C19) | D20: =IF('KPI Definition'!D19 = "","",'KPI Definition'!D19)
A21: =IF('KPI Definition'!A20 = "","",'KPI Definition'!A20) | B21: =IF('KPI Definition'!B20 = "","",'KPI Definition'!B20) | C21: =IF('KPI Definition'!C20 = "","",'KPI Definition'!C20) | D21: =IF('KPI Definition'!D20 = "","",'KPI Definition'!D20)
A22: =IF('KPI Definition'!A21 = "","",'KPI Definition'!A21) | B22: =IF('KPI Definition'!B21 = "","",'KPI Definition'!B21) | C22: =IF('KPI Definition'!C21 = "","",'KPI Definition'!C21) | D22: =IF('KPI Definition'!D21 = "","",'KPI Definition'!D21)
A23: =IF('KPI Definition'!A22 = "","",'KPI Definition'!A22) | B23: =IF('KPI Definition'!B22 = "","",'KPI Definition'!B22) | C23: =IF('KPI Definition'!C22 = "","",'KPI Definition'!C22) | D23: =IF('KPI Definition'!D22 = "","",'KPI Definition'!D22)
A24: =IF('KPI Definition'!A23 = "","",'KPI Definition'!A23) | B24: =IF('KPI Definition'!B23 = "","",'KPI Definition'!B23) | C24: =IF('KPI Definition'!C23 = "","",'KPI Definition'!C23) | D24: =IF('KPI Definition'!D23 = "","",'KPI Definition'!D23)
A25: =IF('KPI Definition'!A24 = "","",'KPI Definition'!A24) | B25: =IF('KPI Definition'!B24 = "","",'KPI Definition'!B24) | C25: =IF('KPI Definition'!C24 = "","",'KPI Definition'!C24) | D25: =IF('KPI Definition'!D24 = "","",'KPI Definition'!D24)
A26: =IF('KPI Definition'!A25 = "","",'KPI Definition'!A25) | B26: =IF('KPI Definition'!B25 = "","",'KPI Definition'!B25) | C26: =IF('KPI Definition'!C25 = "","",'KPI Definition'!C25) | D26: =IF('KPI Definition'!D25 = "","",'KPI Definition'!D25)
A27: =IF('KPI Definition'!A26 = "","",'KPI Definition'!A26) | B27: =IF('KPI Definition'!B26 = "","",'KPI Definition'!B26) | C27: =IF('KPI Definition'!C26 = "","",'KPI Definition'!C26) | D27: =IF('KPI Definition'!D26 = "","",'KPI Definition'!D26)
A28: =IF('KPI Definition'!A27 = "","",'KPI Definition'!A27) | B28: =IF('KPI Definition'!B27 = "","",'KPI Definition'!B27) | C28: =IF('KPI Definition'!C27 = "","",'KPI Definition'!C27) | D28: =IF('KPI Definition'!D27 = "","",'KPI Definition'!D27)
A29: =IF('KPI Definition'!A28 = "","",'KPI Definition'!A28) | B29: =IF('KPI Definition'!B28 = "","",'KPI Definition'!B28) | C29: =IF('KPI Definition'!C28 = "","",'KPI Definition'!C28) | D29: =IF('KPI Definition'!D28 = "","",'KPI Definition'!D28)
... A31: =IF('KPI Definition'!A30 = "","",'KPI Definition'!A30) | B31: =IF('KPI Definition'!B30 = "","",'KPI Definition'!B30) | C31: =IF('KPI Definition'!C30 = "","",'KPI Definition'!C30) | D31: =IF('KPI Definition'!D30 = "","",'KPI Definition'!D30)

Sheet KPI Definition
A1: # | B1: KPI Group | C1: KPI Name | D1: Unit | E1: Formula | F1: Definition | G1: Type
A2: 1 | B2: Project Performance | C2: Number of Projects Completed | D2: Count | E2: Total number of projects completed during the period | F2: Measures the total number of interior design projects successfully completed within the specified time. | G2: UTB
A3: 2 | B3: Project Performance | C3: On-Time Project Completion Rate | D3: (%) | E3: (Projects Completed On-Time / Total Projects)×100\text{(Projects Completed On-Time / Total Projects)} \times 100(Projects Completed On-Time / Total Projects)×100 | F3: Tracks the percentage of projects completed within the agreed timeframe. | G3: UTB
A4: 3 | B4: Client Satisfaction | C4: Client Satisfaction Score | D4: Score | E4: Average client satisfaction rating collected through surveys | F4: Measures the level of client satisfaction with completed projects. | G4: UTB
A5: 4 | B5: Client Satisfaction | C5: Net Promoter Score (NPS) | D5: Score | E5: (Promoters - Detractors) / Total Responses×100\text{(Promoters - Detractors) / Total Responses} \times 100(Promoters - Detractors) / Total Responses×100 | F5: Measures client willingness to recommend the interior design services to others. | G5: UTB
A6: 5 | B6: Cost Management | C6: Average Cost per Project | D6: Currency | E6: (Total Project Costs / Total Projects)\text{(Total Project Costs / Total Projects)}(Total Project Costs / Total Projects) | F6: Tracks the average cost of completing an interior design project. | G6: LTB
A7: 6 | B7: Cost Management | C7: Budget Variance | D7: (%) | E7: (Actual Costs - Budgeted Costs) / Budgeted Costs×100\text{(Actual Costs - Budgeted Costs) / Budgeted Costs} \times 100(Actual Costs - Budgeted Costs) / Budgeted Costs×100 | F7: Measures how well project budgets are managed; variance between planned and actual costs. | G7: LTB
A8: 7 | B8: Resource Utilization | C8: Resource Utilization Rate | D8: (%) | E8: (Total Hours Worked / Total Available Hours)×100\text{(Total Hours Worked / Total Available Hours)} \times 100(Total Hours Worked / Total Available Hours)×100 | F8: Tracks the efficiency of resource allocation in terms of time utilization. | G8: UTB
A9: 8 | B9: Resource Utilization | C9: Billable Hours Percentage | D9: (%) | E9: (Billable Hours / Total Hours Worked)×100\text{(Billable Hours / Total Hours Worked)} \times 100(Billable Hours / Total Hours Worked)×100 | F9: Measures the percentage of time spent on billable work as opposed to non-billable activities. | G9: UTB
A10: 9 | B10: Design Efficiency | C10: Design Approval Rate | D10: (%) | E10: (Designs Approved by Client / Total Designs Presented)×100\text{(Designs Approved by Client / Total Designs Presented)} \times 100(Designs Approved by Client / Total Designs Presented)×100 | F10: Tracks the percentage of designs approved by clients during the first review. | G10: UTB
A11: 10 | B11: Design Efficiency | C11: Average Revisions per Project | D11: Count | E11: Total number of revisions / Total number of projects | F11: Measures the average number of design revisions needed per project. | G11: LTB
A12: 11 | B12: Revenue | C12: Revenue per Designer | D12: Currency | E12: (Total Revenue / Number of Designers)\text{(Total Revenue / Number of Designers)}(Total Revenue / Number of Designers) | F12: Tracks the average revenue generated per designer. | G12: UTB
A13: 12 | B13: Revenue | C13: Monthly Recurring Revenue (MRR) | D13: Currency | E13: Sum of recurring revenue from long-term projects or contracts | F13: Measures recurring income generated by ongoing or repeat clients. | G13: UTB
... A16: 15 | B16: Marketing Performance | C16: Social Media Engagement Rate | D16: (%) | E16: (Total Engagements / Total Followers)×100\text{(Total Engagements / Total Followers)} \times 100(Total Engagements / Total Followers)×100 | F16: Tracks engagement levels on social media platforms (likes, comments, shares, etc.). | G16: UTB

Sheet Support
C1: MTD | F1: YTD | K1: =IF(Trends!$C$3="","","MTD Trend For " & Trends!$C$3) -> MTD Trend For Client Satisfaction Score | L1: =IF(Trends!$C$3="","","YTD Trend For " & Trends!$C$3) -> YTD Trend For Client Satisfaction Score | O1: Up Arrow | P1: Down Arrow
A2: PY Month | B2: Month | C2: Actual | D2: Target | E2: PY | F2: Actual | G2: Target | H2: PY | O2: =_xlfn.UNICHAR(9650) -> ▲ | P2: =_xlfn.UNICHAR(9660) -> ▼
A3: =DATE(YEAR(B3)-1,MONTH(B3),DAY(B3)) -> 44927 | B3: ='KPI Input_ Actual'!E1 -> 45292 | C3: =VLOOKUP(Trends!$C$3,'KPI Input_ Actual'!C:XFD,MATCH($B3,'KPI Input_ Actual'!$C$1:$XFD$1,0),0) -> 331 | D3: =VLOOKUP(Trends!$C$3,'KPI Input - Target'!$C:$XFD,MATCH($B3,'KPI Input - Target'!$C$1:$XFD$1,0),0) -> 342.82 | E3: =VLOOKUP(Trends!$C$3,'KPI Input - PY'!C:XFD,MATCH(A3,'KPI Input - PY'!$C$1:$XFD$1,0),0) -> 368.68 | F3: =VLOOKUP(Trends!$C$3,'KPI Input_ Actual'!C:XFD,MATCH($B3,'KPI Input_ Actual'!$C$1:$XFD$1,0)+1,0) -> 331 | G3: =VLOOKUP(Trends!$C$3,'KPI Input - Target'!C:XFD,MATCH(B3,'KPI Input - Target'!$C$1:$XFD$1,0)+1,0) -> 226.25 | H3: =VLOOKUP(Trends!$C$3,'KPI Input - PY'!$C:$XFD,MATCH(A3,'KPI Input - PY'!$C$1:$XFD$1,0),0) -> 368.68
A4: =DATE(YEAR(B4)-1,MONTH(B4),DAY(B4)) -> 44958 | B4: =EDATE(B3,1) -> 45323 | C4: =VLOOKUP(Trends!$C$3,'KPI Input_ Actual'!C:XFD,MATCH($B4,'KPI Input_ Actual'!$C$1:$XFD$1,0),0) -> 348 | D4: =VLOOKUP(Trends!$C$3,'KPI Input - Target'!$C:$XFD,MATCH($B4,'KPI Input - Target'!$C$1:$XFD$1,0),0) -> 241.88 | E4: =VLOOKUP(Trends!$C$3,'KPI Input - PY'!C:XFD,MATCH(A4,'KPI Input - PY'!$C$1:$XFD$1,0),0) -> 422.13 | F4: =VLOOKUP(Trends!$C$3,'KPI Input_ Actual'!C:XFD,MATCH($B4,'KPI Input_ Actual'!$C$1:$XFD$1,0)+1,0) -> 679 | G4: =VLOOKUP(Trends!$C$3,'KPI Input - Target'!C:XFD,MATCH(B4,'KPI Input - Target'!$C$1:$XFD$1,0)+1,0) -> 243.77 | H4: =VLOOKUP(Trends!$C$3,'KPI Input - PY'!$C:$XFD,MATCH(A4,'KPI Input - PY'!$C$1:$XFD$1,0),0) -> 422.13
A5: =DATE(YEAR(B5)-1,MONTH(B5),DAY(B5)) -> 44986 | B5: =EDATE(B4,1) -> 45352 | C5: =VLOOKUP(Trends!$C$3,'KPI Input_ Actual'!C:XFD,MATCH($B5,'KPI Input_ Actual'!$C$1:$XFD$1,0),0) -> 50 | D5: =VLOOKUP(Trends!$C$3,'KPI Input - Target'!$C:$XFD,MATCH($B5,'KPI Input - Target'!$C$1:$XFD$1,0),0) -> 16.96 | E5: =VLOOKUP(Trends!$C$3,'KPI Input - PY'!C:XFD,MATCH(A5,'KPI Input - PY'!$C$1:$XFD$1,0),0) -> 42.02 | F5: =VLOOKUP(Trends!$C$3,'KPI Input_ Actual'!C:XFD,MATCH($B5,'KPI Input_ Actual'!$C$1:$XFD$1,0)+1,0) -> 729 | G5: =VLOOKUP(Trends!$C$3,'KPI Input - Target'!C:XFD,MATCH(B5,'KPI Input - Target'!$C$1:$XFD$1,0)+1,0) -> 862.99 | H5: =VLOOKUP(Trends!$C$3,'KPI Input - PY'!$C:$XFD,MATCH(A5,'KPI Input - PY'!$C$1:$XFD$1,0),0) -> 42.02
A6: =DATE(YEAR(B6)-1,MONTH(B6),DAY(B6)) -> 45017 | B6: =EDATE(B5,1) -> 45383 | C6: =VLOOKUP(Trends!$C$3,'KPI Input_ Actual'!C:XFD,MATCH($B6,'KPI Input_ Actual'!$C$1:$XFD$1,0),0) -> 231 | D6: =VLOOKUP(Trends!$C$3,'KPI Input - Target'!$C:$XFD,MATCH($B6,'KPI Input - Target'!$C$1:$XFD$1,0),0) -> 83.37 | E6: =VLOOKUP(Trends!$C$3,'KPI Input - PY'!C:XFD,MATCH(A6,'KPI Input - PY'!$C$1:$XFD$1,0),0) -> 55.27 | F6: =VLOOKUP(Trends!$C$3,'KPI Input_ Actual'!C:XFD,MATCH($B6,'KPI Input_ Actual'!$C$1:$XFD$1,0)+1,0) -> 960 | G6: =VLOOKUP(Trends!$C$3,'KPI Input - Target'!C:XFD,MATCH(B6,'KPI Input - Target'!$C$1:$XFD$1,0)+1,0) -> 422.38 | H6: =VLOOKUP(Trends!$C$3,'KPI Input - PY'!$C:$XFD,MATCH(A6,'KPI Input - PY'!$C$1:$XFD$1,0),0) -> 55.27
A7: =DATE(YEAR(B7)-1,MONTH(B7),DAY(B7)) -> 45047 | B7: =EDATE(B6,1) -> 45413 | C7: =VLOOKUP(Trends!$C$3,'KPI Input_ Actual'!C:XFD,MATCH($B7,'KPI Input_ Actual'!$C$1:$XFD$1,0),0) -> 496 | D7: =VLOOKUP(Trends!$C$3,'KPI Input - Target'!$C:$XFD,MATCH($B7,'KPI Input - Target'!$C$1:$XFD$1,0),0) -> 14.12 | E7: =VLOOKUP(Trends!$C$3,'KPI Input - PY'!C:XFD,MATCH(A7,'KPI Input - PY'!$C$1:$XFD$1,0),0) -> 257.13 | F7: =VLOOKUP(Trends!$C$3,'KPI Input_ Actual'!C:XFD,MATCH($B7,'KPI Input_ Actual'!$C$1:$XFD$1,0)+1,0) -> 1456 | G7: =VLOOKUP(Trends!$C$3,'KPI Input - Target'!C:XFD,MATCH(B7,'KPI Input - Target'!$C$1:$XFD$1,0)+1,0) -> 966.58 | H7: =VLOOKUP(Trends!$C$3,'KPI Input - PY'!$C:$XFD,MATCH(A7,'KPI Input - PY'!$C$1:$XFD$1,0),0) -> 257.13
A8: =DATE(YEAR(B8)-1,MONTH(B8),DAY(B8)) -> 45078 | B8: =EDATE(B7,1) -> 45444 | C8: =VLOOKUP(Trends!$C$3,'KPI Input_ Actual'!C:XFD,MATCH($B8,'KPI Input_ Actual'!$C$1:$XFD$1,0),0) -> 42 | D8: =VLOOKUP(Trends!$C$3,'KPI Input - Target'!$C:$XFD,MATCH($B8,'KPI Input - Target'!$C$1:$XFD$1,0),0) -> 50.45 | E8: =VLOOKUP(Trends!$C$3,'KPI Input - PY'!C:XFD,MATCH(A8,'KPI Input - PY'!$C$1:$XFD$1,0),0) -> 13.53 | F8: =VLOOKUP(Trends!$C$3,'KPI Input_ Actual'!C:XFD,MATCH($B8,'KPI Input_ Actual'!$C$1:$XFD$1,0)+1,0) -> 1498 | G8: =VLOOKUP(Trends!$C$3,'KPI Input - Target'!C:XFD,MATCH(B8,'KPI Input - Target'!$C$1:$XFD$1,0)+1,0) -> 1159.6 | H8: =VLOOKUP(Trends!$C$3,'KPI Input - PY'!$C:$XFD,MATCH(A8,'KPI Input - PY'!$C$1:$XFD$1,0),0) -> 13.53
A9: =DATE(YEAR(B9)-1,MONTH(B9),DAY(B9)) -> 45108 | B9: =EDATE(B8,1) -> 45474 | C9: =VLOOKUP(Trends!$C$3,'KPI Input_ Actual'!C:XFD,MATCH($B9,'KPI Input_ Actual'!$C$1:$XFD$1,0),0) -> 272 | D9: =VLOOKUP(Trends!$C$3,'KPI Input - Target'!$C:$XFD,MATCH($B9,'KPI Input - Target'!$C$1:$XFD$1,0),0) -> 54.01 | E9: =VLOOKUP(Trends!$C$3,'KPI Input - PY'!C:XFD,MATCH(A9,'KPI Input - PY'!$C$1:$XFD$1,0),0) -> 187.69 | F9: =VLOOKUP(Trends!$C$3,'KPI Input_ Actual'!C:XFD,MATCH($B9,'KPI Input_ Actual'!$C$1:$XFD$1,0)+1,0) -> 1770 | G9: =VLOOKUP(Trends!$C$3,'KPI Input - Target'!C:XFD,MATCH(B9,'KPI Input - Target'!$C$1:$XFD$1,0)+1,0) -> 1673.65 | H9: =VLOOKUP(Trends!$C$3,'KPI Input - PY'!$C:$XFD,MATCH(A9,'KPI Input - PY'!$C$1:$XFD$1,0),0) -> 187.69
A10: =DATE(YEAR(B10)-1,MONTH(B10),DAY(B10)) -> 45139 | B10: =EDATE(B9,1) -> 45505 | C10: =VLOOKUP(Trends!$C$3,'KPI Input_ Actual'!C:XFD,MATCH($B10,'KPI Input_ Actual'!$C$1:$XFD$1,0),0) -> 285 | D10: =VLOOKUP(Trends!$C$3,'KPI Input - Target'!$C:$XFD,MATCH($B10,'KPI Input - Target'!$C$1:$XFD$1,0),0) -> 105.49 | E10: =VLOOKUP(Trends!$C$3,'KPI Input - PY'!C:XFD,MATCH(A10,'KPI Input - PY'!$C$1:$XFD$1,0),0) -> 63.46 | F10: =VLOOKUP(Trends!$C$3,'KPI Input_ Actual'!C:XFD,MATCH($B10,'KPI Input_ Actual'!$C$1:$XFD$1,0)+1,0) -> 2055 | G10: =VLOOKUP(Trends!$C$3,'KPI Input - Target'!C:XFD,MATCH(B10,'KPI Input - Target'!$C$1:$XFD$1,0)+1,0) -> 45.6 | H10: =VLOOKUP(Trends!$C$3,'KPI Input - PY'!$C:$XFD,MATCH(A10,'KPI Input - PY'!$C$1:$XFD$1,0),0) -> 63.46
A11: =DATE(YEAR(B11)-1,MONTH(B11),DAY(B11)) -> 45170 | B11: =EDATE(B10,1) -> 45536 | C11: =VLOOKUP(Trends!$C$3,'KPI Input_ Actual'!C:XFD,MATCH($B11,'KPI Input_ Actual'!$C$1:$XFD$1,0),0) -> 331 | D11: =VLOOKUP(Trends!$C$3,'KPI Input - Target'!$C:$XFD,MATCH($B11,'KPI Input - Target'!$C$1:$XFD$1,0),0) -> 107.75 | E11: =VLOOKUP(Trends!$C$3,'KPI Input - PY'!C:XFD,MATCH(A11,'KPI Input - PY'!$C$1:$XFD$1,0),0) -> 130.99 | F11: =VLOOKUP(Trends!$C$3,'KPI Input_ Actual'!C:XFD,MATCH($B11,'KPI Input_ Actual'!$C$1:$XFD$1,0)+1,0) -> 2386 | G11: =VLOOKUP(Trends!$C$3,'KPI Input - Target'!C:XFD,MATCH(B11,'KPI Input - Target'!$C$1:$XFD$1,0)+1,0) -> 699.93 | H11: =VLOOKUP(Trends!$C$3,'KPI Input - PY'!$C:$XFD,MATCH(A11,'KPI Input - PY'!$C$1:$XFD$1,0),0) -> 130.99
A12: =DATE(YEAR(B12)-1,MONTH(B12),DAY(B12)) -> 45200 | B12: =EDATE(B11,1) -> 45566 | C12: =VLOOKUP(Trends!$C$3,'KPI Input_ Actual'!C:XFD,MATCH($B12,'KPI Input_ Actual'!$C$1:$XFD$1,0),0) -> 164 | D12: =VLOOKUP(Trends!$C$3,'KPI Input - Target'!$C:$XFD,MATCH($B12,'KPI Input - Target'!$C$1:$XFD$1,0),0) -> 96.91 | E12: =VLOOKUP(Trends!$C$3,'KPI Input - PY'!C:XFD,MATCH(A12,'KPI Input - PY'!$C$1:$XFD$1,0),0) -> 155.38 | F12: =VLOOKUP(Trends!$C$3,'KPI Input_ Actual'!C:XFD,MATCH($B12,'KPI Input_ Actual'!$C$1:$XFD$1,0)+1,0) -> 2550 | G12: =VLOOKUP(Trends!$C$3,'KPI Input - Target'!C:XFD,MATCH(B12,'KPI Input - Target'!$C$1:$XFD$1,0)+1,0) -> 2221.82 | H12: =VLOOKUP(Trends!$C$3,'KPI Input - PY'!$C:$XFD,MATCH(A12,'KPI Input - PY'!$C$1:$XFD$1,0),0) -> 155.38
