Workbook

Sheet Target Vs Actual Chart
A1: Day | B1: Sale | C1: Target | D1: 1 | E1: ="Target Vs Actual Sales for "&INDEX('Employee Sales'!A3:A32,'Target Vs Actual Chart'!D1) -> Target Vs Actual Sales for EMP-1
A2: Monday | B2: =HLOOKUP(A2,'Employee Sales'!$B$1:$H$32,'Target Vs Actual Chart'!$D$1+2,0) -> 143 | C2: =HLOOKUP(A2,'Employee Sales'!$B$1:$H$2,2,0) -> 150
A3: Tuesday | B3: =HLOOKUP(A3,'Employee Sales'!$B$1:$H$32,'Target Vs Actual Chart'!$D$1+2,0) -> 70 | C3: =HLOOKUP(A3,'Employee Sales'!$B$1:$H$2,2,0) -> 150
A4: Wednesday | B4: =HLOOKUP(A4,'Employee Sales'!$B$1:$H$32,'Target Vs Actual Chart'!$D$1+2,0) -> 65 | C4: =HLOOKUP(A4,'Employee Sales'!$B$1:$H$2,2,0) -> 150
A5: Thursday | B5: =HLOOKUP(A5,'Employee Sales'!$B$1:$H$32,'Target Vs Actual Chart'!$D$1+2,0) -> 131 | C5: =HLOOKUP(A5,'Employee Sales'!$B$1:$H$2,2,0) -> 150
A6: Friday | B6: =HLOOKUP(A6,'Employee Sales'!$B$1:$H$32,'Target Vs Actual Chart'!$D$1+2,0) -> 84 | C6: =HLOOKUP(A6,'Employee Sales'!$B$1:$H$2,2,0) -> 150
A7: Saturday | B7: =HLOOKUP(A7,'Employee Sales'!$B$1:$H$32,'Target Vs Actual Chart'!$D$1+2,0) -> 145 | C7: =HLOOKUP(A7,'Employee Sales'!$B$1:$H$2,2,0) -> 120
A8: Sunday | B8: =HLOOKUP(A8,'Employee Sales'!$B$1:$H$32,'Target Vs Actual Chart'!$D$1+2,0) -> 125 | C8: =HLOOKUP(A8,'Employee Sales'!$B$1:$H$2,2,0) -> 120
G25: Useful Links
G26: Chart and Visualizations: | H26: https://www.pk-anexcelexpert.com/category/blogs/charts-and-visualization/
G27: VBA Course: | H27: https://www.pk-anexcelexpert.com/vba/
G28: Download useful Templates: | H28: https://www.pk-anexcelexpert.com/category/templates/
G29: Dashboards: | H29: https://www.pk-anexcelexpert.com/excel-dashboard/

Sheet Employee Sales
A1: EMP Name | B1: Monday | C1: Tuesday | D1: Wednesday | E1: Thursday | F1: Friday | G1: Saturday | H1: Sunday
A2: Target | B2: 150 | C2: 150 | D2: 150 | E2: 150 | F2: 150 | G2: 120 | H2: 120
A3: EMP-1 | B3: 143 | C3: 70 | D3: 65 | E3: 131 | F3: 84 | G3: 145 | H3: 125 | M3: Useful Links
A4: EMP-2 | B4: 139 | C4: 72 | D4: 101 | E4: 178 | F4: 124 | G4: 199 | H4: 189 | M4: Chart and Visualizations: | N4: https://www.pk-anexcelexpert.com/category/blogs/charts-and-visualization/
A5: EMP-3 | B5: 73 | C5: 183 | D5: 191 | E5: 141 | F5: 132 | G5: 105 | H5: 90 | M5: VBA Course: | N5: https://www.pk-anexcelexpert.com/vba/
A6: EMP-4 | B6: 139 | C6: 168 | D6: 152 | E6: 171 | F6: 157 | G6: 155 | H6: 167 | M6: Download useful Templates: | N6: https://www.pk-anexcelexpert.com/category/templates/
A7: EMP-5 | B7: 101 | C7: 122 | D7: 161 | E7: 107 | F7: 162 | G7: 178 | H7: 86 | M7: Dashboards: | N7: https://www.pk-anexcelexpert.com/excel-dashboard/
A8: EMP-6 | B8: 161 | C8: 116 | D8: 171 | E8: 135 | F8: 71 | G8: 149 | H8: 87
A9: EMP-7 | B9: 68 | C9: 53 | D9: 52 | E9: 166 | F9: 148 | G9: 140 | H9: 65
A10: EMP-8 | B10: 193 | C10: 99 | D10: 101 | E10: 130 | F10: 72 | G10: 117 | H10: 82
A11: EMP-9 | B11: 135 | C11: 151 | D11: 156 | E11: 166 | F11: 72 | G11: 118 | H11: 94
A12: EMP-10 | B12: 136 | C12: 117 | D12: 199 | E12: 173 | F12: 115 | G12: 130 | H12: 144
A13: EMP-11 | B13: 127 | C13: 50 | D13: 186 | E13: 52 | F13: 85 | G13: 173 | H13: 188
A14: EMP-12 | B14: 153 | C14: 69 | D14: 187 | E14: 179 | F14: 138 | G14: 105 | H14: 58
A15: EMP-13 | B15: 142 | C15: 87 | D15: 133 | E15: 184 | F15: 93 | G15: 53 | H15: 79
A16: EMP-14 | B16: 52 | C16: 89 | D16: 173 | E16: 115 | F16: 92 | G16: 115 | H16: 179
A17: EMP-15 | B17: 148 | C17: 108 | D17: 143 | E17: 182 | F17: 90 | G17: 198 | H17: 95
A18: EMP-16 | B18: 83 | C18: 115 | D18: 82 | E18: 110 | F18: 100 | G18: 140 | H18: 139
A19: EMP-17 | B19: 158 | C19: 174 | D19: 192 | E19: 199 | F19: 99 | G19: 52 | H19: 152
... A32: EMP-30 | B32: 121 | C32: 124 | D32: 83 | E32: 152 | F32: 82 | G32: 191 | H32: 67

Sheet Sheet2
A1: Day | B1: Sale | C1: Target | E1: 6 | G1: =INDEX('Employee Sales'!A3:A32,Sheet2!E1) -> EMP-6 | H1: ="Target Vs Actual Sales for "&G1 -> Target Vs Actual Sales for EMP-6
A2: Monday | B2: =HLOOKUP(A2,'Employee Sales'!$A$1:$H$32,Sheet2!$E$1+2,0) -> 161 | C2: =HLOOKUP(A2,'Employee Sales'!$A$1:$H$32,2,0) -> 150 | Q2: Useful Links
A3: Tuesday | B3: =HLOOKUP(A3,'Employee Sales'!$A$1:$H$32,Sheet2!$E$1+2,0) -> 116 | C3: =HLOOKUP(A3,'Employee Sales'!$A$1:$H$32,2,0) -> 150 | Q3: Chart and Visualizations: | R3: https://www.pk-anexcelexpert.com/category/blogs/charts-and-visualization/
A4: Wednesday | B4: =HLOOKUP(A4,'Employee Sales'!$A$1:$H$32,Sheet2!$E$1+2,0) -> 171 | C4: =HLOOKUP(A4,'Employee Sales'!$A$1:$H$32,2,0) -> 150 | Q4: VBA Course: | R4: https://www.pk-anexcelexpert.com/vba/
A5: Thursday | B5: =HLOOKUP(A5,'Employee Sales'!$A$1:$H$32,Sheet2!$E$1+2,0) -> 135 | C5: =HLOOKUP(A5,'Employee Sales'!$A$1:$H$32,2,0) -> 150 | Q5: Download useful Templates: | R5: https://www.pk-anexcelexpert.com/category/templates/
A6: Friday | B6: =HLOOKUP(A6,'Employee Sales'!$A$1:$H$32,Sheet2!$E$1+2,0) -> 71 | C6: =HLOOKUP(A6,'Employee Sales'!$A$1:$H$32,2,0) -> 150 | Q6: Dashboards: | R6: https://www.pk-anexcelexpert.com/excel-dashboard/
A7: Saturday | B7: =HLOOKUP(A7,'Employee Sales'!$A$1:$H$32,Sheet2!$E$1+2,0) -> 149 | C7: =HLOOKUP(A7,'Employee Sales'!$A$1:$H$32,2,0) -> 120
A8: Sunday | B8: =HLOOKUP(A8,'Employee Sales'!$A$1:$H$32,Sheet2!$E$1+2,0) -> 87 | C8: =HLOOKUP(A8,'Employee Sales'!$A$1:$H$32,2,0) -> 120
